BEGIN:VCALENDAR
VERSION:2.0
PRODID:-//wp-events-plugin.com//7.2.1//EN
TZID:Europe/Berlin
X-WR-TIMEZONE:Europe/Berlin
BEGIN:VEVENT
UID:1409@laubach-online.de
DTSTART:20250926T193000Z
DTEND:20250926T220000Z
DTSTAMP:20250811T064111Z
URL:https://laubach-online.de/events/lesung-das-ist-nicht-das-rohe-vom-ei-
 mit-armin-achtmann/
SUMMARY:Lesung \\\\\\"Das ist nicht das Rohe vom Ei\\\\\\" mit Armin Achtma
 nn
DESCRIPTION:Der Autor lebt in Butzbach und hat seine Jugend in West-Berlin 
 verbracht. Seine Geschichte spielt genau dort im Jahr 1983 und ist eine ge
 lungene Mischung aus Spannung\, Humor und Tiefgründigkeit.
ATTACH;FMTTYPE=image/jpeg:https://laubach-online.de/wp-content/uploads/202
 5/08/Flyer-Lesung.jpg
CATEGORIES:Lesung
LOCATION:Katholische Kirche St. Elisabeth\, Gerhart-Hautmann-Straße 4\, La
 ubach\, Deutschland
GEO:50.542884;8.986312
X-APPLE-STRUCTURED-LOCATION;VALUE=URI;X-ADDRESS=Gerhart-Hautmann-Straße 4\
 , Laubach\, Deutschland;X-APPLE-RADIUS=100;X-TITLE=Katholische Kirche St. 
 Elisabeth:geo:50.542884,8.986312
END:VEVENT
END:VCALENDAR