BEGIN:VCALENDAR
VERSION:2.0
PRODID:-//wp-events-plugin.com//7.2.1//EN
TZID:Europe/Berlin
X-WR-TIMEZONE:Europe/Berlin
BEGIN:VEVENT
UID:1490@laubach-online.de
DTSTART:20260224T190000Z
DTEND:20260224T203000Z
DTSTAMP:20260202T150122Z
URL:https://laubach-online.de/events/lesung-vortrag-autismus-was-ist-das/
SUMMARY:Lesung &amp\; Vortrag: Autismus - was ist das?
DESCRIPTION:Eine Veranstaltung mit Hilde Kammer &amp\; Jochen Bantz zum The
 ma „Autismus - was ist das?“.\n\nLesung aus dem Buch: "Entdecken wer i
 ch bin - eine Autobiographie mit dem Asperger-Syndrom"\nsowie Beantwortung
  von Fragen im Anschluss.\n\nKostenfreie Veranstaltung im Familienzentrum 
 „Alter Bahnhof“ der Stadt Laubach (Bahnhofstr. 33).\n\nUm Anmeldung wi
 rd gebeten unter 06405-921 460 oder per Mail an soziales@laubach-online.de
ATTACH;FMTTYPE=image/jpeg:https://laubach-online.de/wp-content/uploads/202
 6/02/Veranstaltung-Autismus24.02.jpg
CATEGORIES:Lesung
LOCATION:Alter Bahnhof\, Bahnhofstraße 33\, 35321 Laubach\, Deutschland
GEO:50.541713;8.984776
X-APPLE-STRUCTURED-LOCATION;VALUE=URI;X-ADDRESS=Bahnhofstraße 33\, 35321 L
 aubach\, Deutschland;X-APPLE-RADIUS=100;X-TITLE=Alter Bahnhof:geo:50.54171
 3,8.984776
END:VEVENT
END:VCALENDAR