BEGIN:VCALENDAR
VERSION:2.0
PRODID:-//wp-events-plugin.com//7.2.1//EN
TZID:Europe/Berlin
X-WR-TIMEZONE:Europe/Berlin
BEGIN:VEVENT
UID:1533@laubach-online.de
DTSTART:20260501T110000Z
DTEND:20260501T180000Z
DTSTAMP:20260420T083454Z
URL:https://laubach-online.de/events/maifeier-2/
SUMMARY:Maifeier
DESCRIPTION:Die Freiwillige Feuerwehr Laubach lädt am 1.Mai alle Freunde\,
  Bekannte\, Gönner und Interessierte zur Maifeier am Gerätehaus ein.\nAn
 geboten werden:\n\nGekühlte Getränke\nLeckereien vom Grill\nKaffee und K
 uchen\nSpiel und Spaß für Kinder
LOCATION:Feuerwehrgerätehaus Laubach\, Schottener Straße 40 \, 35321 Laub
 ach\, Deutschland
GEO:50.541767;8.999597
X-APPLE-STRUCTURED-LOCATION;VALUE=URI;X-ADDRESS=Schottener Straße 40 \, 35
 321 Laubach\, Deutschland;X-APPLE-RADIUS=100;X-TITLE=Feuerwehrgerätehaus 
 Laubach:geo:50.541767,8.999597
END:VEVENT
END:VCALENDAR