BEGIN:VCALENDAR
VERSION:2.0
PRODID:-//wp-events-plugin.com//7.2.1//EN
TZID:Europe/Berlin
X-WR-TIMEZONE:Europe/Berlin
BEGIN:VEVENT
UID:971@laubach-online.de
DTSTART:20240501T110000Z
DTEND:20240501T180000Z
DTSTAMP:20240228T082443Z
URL:https://laubach-online.de/events/maifeier/
SUMMARY:Maifeier
DESCRIPTION:Im Jahr 2024 möchte die Feuerwehr Laubach wieder an die Zeiten
  vor der Corona Pandemie anknüpfen und eine Maifeier am Gerätehaus veran
 stalten.\n\nBei Köstlichkeiten vom Grill\, Kaffee und Kuchen\, Musikalisc
 her Unterhaltung vom Musikverein Laubach sind\nalle Freunde\, Bekannte und
  Mitbürger herzlich eingeladen.\nHüpfburg\, Bungeerun und andere kleine 
 Attraktionen werden\nfür Kinder und Jung gebliebene angeboten.\n\nInteres
 sierte haben auch die Gelegenheit das 2021 fertiggestellte Gerätehaus zu 
 besichtigen\, sprecht uns einfach an.
CATEGORIES:Märkte &amp; Feste
LOCATION:Feuerwehrgerätehaus Laubach\, Schottener Straße 40 \, 35321 Laub
 ach\, Deutschland
GEO:50.541767;8.999597
X-APPLE-STRUCTURED-LOCATION;VALUE=URI;X-ADDRESS=Schottener Straße 40 \, 35
 321 Laubach\, Deutschland;X-APPLE-RADIUS=100;X-TITLE=Feuerwehrgerätehaus 
 Laubach:geo:50.541767,8.999597
END:VEVENT
END:VCALENDAR