BEGIN:VCALENDAR
VERSION:2.0
PRODID:-//wp-events-plugin.com//7.2.1//EN
TZID:Europe/Berlin
X-WR-TIMEZONE:Europe/Berlin
BEGIN:VEVENT
UID:1474@laubach-online.de
DTSTART;TZID=Europe/Berlin:20260321T180000
DTEND;TZID=Europe/Berlin:20260321T223000
DTSTAMP:20260116T101609Z
URL:https://laubach-online.de/events/manuel-wiegran-projekt/
SUMMARY:Manuel Wiegran-Projekt
DESCRIPTION:Lust auf oberhessischen Alternative Rock und Indie Rock? Die re
 gionale Band aus Grünberg/ Mücke kann sich sehen und hören lassen - sch
 aut einfach rein am 21. März 2026 ab 19.30 Uhr in der Braumanufaktur und 
 lasst euch begeistern!Schon mal reinhören unter https://open.spotify.com/
 artist/1QQjCkhzYXjPwU1a7mt6Pw\n\nEintritt frei (gegen Spende)
CATEGORIES:Konzerte
LOCATION:Braumanufaktur Laubach\, Gerhart-Hautmann-Straße 1\, Laubach\, 35
 321\, Deutschland
GEO:50.542969;8.987482
X-APPLE-STRUCTURED-LOCATION;VALUE=URI;X-ADDRESS=Gerhart-Hautmann-Straße 1\
 , Laubach\, 35321\, Deutschland;X-APPLE-RADIUS=100;X-TITLE=Braumanufaktur 
 Laubach:geo:50.542969,8.987482
END:VEVENT
BEGIN:VTIMEZONE
TZID:Europe/Berlin
X-LIC-LOCATION:Europe/Berlin
BEGIN:STANDARD
DTSTART:20251026T020000
TZOFFSETFROM:+0200
TZOFFSETTO:+0100
TZNAME:CET
END:STANDARD
END:VTIMEZONE
END:VCALENDAR