BEGIN:VCALENDAR
VERSION:2.0
PRODID:-//wp-events-plugin.com//7.2.1//EN
TZID:Europe/Berlin
X-WR-TIMEZONE:Europe/Berlin
BEGIN:VEVENT
UID:1479@laubach-online.de
DTSTART;TZID=Europe/Berlin:20260515T180000
DTEND;TZID=Europe/Berlin:20260515T220000
DTSTAMP:20260116T101704Z
URL:https://laubach-online.de/events/mit-waschbrett-und-teekistenbass/
SUMMARY:Mit Waschbrett und Teekistenbass
DESCRIPTION:Die 60er Jahre kehren zurück - jene Zeiten\, als in den Tanzba
 rs Dixieland-Bands auftraten\, die mit sonderbaren Instrumenten musizierte
 n\, wie Waschbrett oder Teekistenbass. Das war Skiffle - und jetzt ist er 
 wieder da: Am 29. Mai sind »The Worried Skiffle Gamblers« zu Gast beim L
 aubacher Kunst- und Kulturforum und legen um 18.00 Uhr mit ihrem handgemac
 hten Blues/Folk/Jazz-Mix los\, ganz ohne Verstärker.
CATEGORIES:Konzerte
LOCATION:Braumanufaktur Laubach\, Gerhart-Hautmann-Straße 1\, Laubach\, 35
 321\, Deutschland
GEO:50.542969;8.987482
X-APPLE-STRUCTURED-LOCATION;VALUE=URI;X-ADDRESS=Gerhart-Hautmann-Straße 1\
 , Laubach\, 35321\, Deutschland;X-APPLE-RADIUS=100;X-TITLE=Braumanufaktur 
 Laubach:geo:50.542969,8.987482
END:VEVENT
BEGIN:VTIMEZONE
TZID:Europe/Berlin
X-LIC-LOCATION:Europe/Berlin
BEGIN:DAYLIGHT
DTSTART:20260329T030000
TZOFFSETFROM:+0100
TZOFFSETTO:+0200
TZNAME:CEST
END:DAYLIGHT
END:VTIMEZONE
END:VCALENDAR