BEGIN:VCALENDAR
VERSION:2.0
PRODID:-//wp-events-plugin.com//7.2.1//EN
TZID:Europe/Berlin
X-WR-TIMEZONE:Europe/Berlin
BEGIN:VEVENT
UID:1496@laubach-online.de
DTSTART:20260407T183000Z
DTEND:20260407T193000Z
DTSTAMP:20260206T125256Z
URL:https://laubach-online.de/events/mitmach-vortrag-vorbeugung-vor-sturz/
SUMMARY:Mitmach-Vortrag: Vorbeugung vor Sturz
DESCRIPTION:Ein Mitmach-Vortrag mit Gemeindepflegerin Nadine Jordan zum The
 ma „Vorbeugung vor Sturz“.\n\nSie erhalten Informationen zu:\n– Wie 
 vermeide ich Stürze im Alltag?\n– Welche Routinen können die Muskulatu
 r stärken?\n– Tipps für einen barrierefreien Haushalt\n\nKostenfreie V
 eranstaltung im Familienzentrum „Alter Bahnhof“ der Stadt Laubach (Bah
 nhofstr. 33).\n\nUm Anmeldung wird gebeten unter 06405-921 460 oder per Ma
 il an soziales@laubach-online.de.
ATTACH;FMTTYPE=image/jpeg:https://laubach-online.de/wp-content/uploads/202
 6/02/Mitmach-Vortrag-Vorbeugung-vor-Sturz-0704.png
LOCATION:Alter Bahnhof\, Bahnhofstraße 33\, 35321 Laubach\, Deutschland
GEO:50.541713;8.984776
X-APPLE-STRUCTURED-LOCATION;VALUE=URI;X-ADDRESS=Bahnhofstraße 33\, 35321 L
 aubach\, Deutschland;X-APPLE-RADIUS=100;X-TITLE=Alter Bahnhof:geo:50.54171
 3,8.984776
END:VEVENT
END:VCALENDAR