BEGIN:VCALENDAR
VERSION:2.0
PRODID:-//wp-events-plugin.com//7.2.1//EN
TZID:Europe/Berlin
X-WR-TIMEZONE:Europe/Berlin
BEGIN:VEVENT
UID:973@laubach-online.de
DTSTART:20240616T193000Z
DTEND:20240616T213000Z
DTSTAMP:20240307T133802Z
URL:https://laubach-online.de/events/mixtur-alte-filme-frische-toene/
SUMMARY:"mixtur" Alte Filme - frische Töne
DESCRIPTION:Vor der Erfindung des Tonfilms gab es Orgeln in vielen Kinosäl
 en\, um die Filme mit der passenden Musik und den entsprechenden Geräusch
 en zu versehen. Organisten\, die der Kunst des Improvisierens mächtig war
 en\, erfanden die Filmmusik meist aus dem Stehgreif und es entstanden ganz
 e Orgelbaufabriken\, die sich auf den Bau von Kinoorgeln spezialisierten -
  eine Entwicklung\, der mit der Erfindung des Tonfilms schlagartig ein End
 e bereitet wurde und die Orgeln wieder aus den Sälen verschwanden.\nAuch 
 wenn heutige Kirchenorgeln wie die der Laubacher Stadtkirche keine Registe
 r mehr wie „Türklingel“ oder „Autohupe“ besitzen\, so eignen sie 
 sich mit ihren vielen Klangfarben dennoch hervorragend\, um den alten Film
 en wieder musikalisches Leben einzuhauchen. Denn nur mit improvisierter Mu
 sik kann etwa auf die unterschiedlichen Laufgeschwindigkeiten der alten Fi
 lme reagiert werden\, sodass musikalische Effekte mit perfektem Timing pla
 tziert werden können. Die Orgel verwandelt sich dabei in ein einmaliges F
 ilmorchester.\n\nGezeigt werden bei diesem Konzert im Rahmen der Orgelkonz
 ertreihe „mixtur“ mehrere Kurzfilme\, wie zum Beispiel „La course au
  singe“\, „Berlin Akte I &amp\; II“\, „The blacksmith“ von und m
 it Buster Keaton.
ATTACH;FMTTYPE=image/jpeg:https://laubach-online.de/wp-content/uploads/202
 4/02/Karte-film-scaled.jpg
CATEGORIES:Konzerte
LOCATION:Stadtkirche Laubach\, Kirchplatz\, Laubach\, Deutschland
GEO:50.542791;8.990438
X-APPLE-STRUCTURED-LOCATION;VALUE=URI;X-ADDRESS=Kirchplatz\, Laubach\, Deut
 schland;X-APPLE-RADIUS=100;X-TITLE=Stadtkirche Laubach:geo:50.542791,8.990
 438
END:VEVENT
END:VCALENDAR