BEGIN:VCALENDAR
VERSION:2.0
PRODID:-//wp-events-plugin.com//7.2.1//EN
TZID:Europe/Berlin
X-WR-TIMEZONE:Europe/Berlin
BEGIN:VEVENT
UID:1352@laubach-online.de
DTSTART:20250704T193000Z
DTEND:20250704T210000Z
DTSTAMP:20250424T131402Z
URL:https://laubach-online.de/events/mixtur-cinema-in-paradiso-faszinieren
 de-welt-der-filmmusik-auf-klassischen-instrumenten/
SUMMARY:mixtur - Cinema in Paradiso – Faszinierende Welt der Filmmusik au
 f klassischen Instrumenten
DESCRIPTION:„Cinema in Paradiso“ – Faszinierende Welt der Filmmusik a
 uf klassischen Instrumenten\n\nEin Klanguniversum\, das mit Soundtracks vo
 n Walt Disney und Ennio Morricone oder mit Titeln wie „Moon River“ Eri
 nnerungen weckt und Emotionen entfacht: Freuen Sie sich am 4. Juli\, 19.30
  Uhr auf Melodien aus großen Kinoerfolgen in einer außergewöhnlichen Kl
 angkombination mit Sandra Schwarzhaupt-Caldéron (Gesang)\, Nicole Besse (
 Violine) und Erik Arndt (Orgel). Im Rahmen der Orgelkonzertreihe „mixtur
 “ wartet ein besonderes musikalisches Hörerlebnis auf die Besucherinnen
  und Besucher in der Evangelischen Stadtkirche. Das Ensemble aus klassisch
  ausgebildeten Musikern präsentiert in diesem Crossover-Konzert Highlight
 s und Geheimtipps der Filmmusik. Hier scheinen Bilder auf\, die an aktuell
 e historische Streaming-Serien erinnern – und das wird spannend werden. 
 Die Presse war sich nach den Euregio-Filmfestspielen 2025 in Stolberg eini
 g: Das Ensemble „setzt klangvollste Maßstäbe“.\n\nEintrittskarten &a
 mp\; Informationen:\n\nKultur- und Tourismusbüro Laubach\, Bahnhofstraße
  1\n\nTel.: 06405-921321 | E-Mail: tourist-info@laubach-online.de\n\nWeite
 re Informationen unter: www.mixtur-laubach.de
ATTACH;FMTTYPE=image/jpeg:https://laubach-online.de/wp-content/uploads/202
 5/04/Karte-cinema-in-paraduso-scaled.jpg
LOCATION:Stadtkirche Laubach\, Kirchplatz\, Laubach\, Deutschland
GEO:50.542791;8.990438
X-APPLE-STRUCTURED-LOCATION;VALUE=URI;X-ADDRESS=Kirchplatz\, Laubach\, Deut
 schland;X-APPLE-RADIUS=100;X-TITLE=Stadtkirche Laubach:geo:50.542791,8.990
 438
END:VEVENT
END:VCALENDAR