BEGIN:VCALENDAR
VERSION:2.0
PRODID:-//wp-events-plugin.com//7.2.1//EN
TZID:Europe/Berlin
X-WR-TIMEZONE:Europe/Berlin
BEGIN:VEVENT
UID:1480@laubach-online.de
DTSTART:20260417T190000Z
DTEND:20260417T213000Z
DTSTAMP:20260320T083008Z
URL:https://laubach-online.de/events/mixtur-konzerte-mit-der-orgel-2/
SUMMARY:"mixtur"  Tanz mit der Orgel
DESCRIPTION:Bereits im Alten Testament wird von Tänzen berichtet Es wird g
 etanzt um der Freude über Gottes Eingreifen und große Taten Ausdruck zu 
 verleihen. Theresa Gehring und Hermann Kron werden die Klänge der Orgelwe
 rke in Bilder des Tanztheaters verwandeln. Die Bandbreite der Orgelwerke r
 eicht dabei von barocken Tänzen über Camille Saint-Saëns Danse macabre 
 bis hin zu JehainAlains Deux Danses a Agni yavishta . Letztere  sind nich
 t nur kompositorische Spitzenwerke\, sie haben auch eine geradezu hypnotis
 che Wirkung und ziehen den Hörer in ihren Bann.\n\n&nbsp\;\n\nVorverkaufs
 stellen:\n\nBUCK lesen - schreiben - spielen GmbH in Hungen\nBuchhandlung 
 Reinhard in Grünberg
ATTACH;FMTTYPE=image/jpeg:https://laubach-online.de/wp-content/uploads/202
 6/02/Theresagehring-und-Hermann-Kron5.jpg
CATEGORIES:Konzerte
LOCATION:Stadtkirche Laubach\, Kirchplatz\, Laubach\, Deutschland
GEO:50.542791;8.990438
X-APPLE-STRUCTURED-LOCATION;VALUE=URI;X-ADDRESS=Kirchplatz\, Laubach\, Deut
 schland;X-APPLE-RADIUS=100;X-TITLE=Stadtkirche Laubach:geo:50.542791,8.990
 438
END:VEVENT
END:VCALENDAR