BEGIN:VCALENDAR
VERSION:2.0
PRODID:-//wp-events-plugin.com//7.2.1//EN
TZID:Europe/Berlin
X-WR-TIMEZONE:Europe/Berlin
BEGIN:VEVENT
UID:1481@laubach-online.de
DTSTART:20260529T193000Z
DTEND:20260529T220000Z
DTSTAMP:20260320T083443Z
URL:https://laubach-online.de/events/mixtur-konzerte-mit-der-orgel-3/
SUMMARY:"mixtur" Konzerte mit der Orgel "Orgel trifft auf Freunde"
DESCRIPTION:Wenn die Königin der Instrumente Hof hält\, entfalten Pauken 
 und Trompeten ihre ganze Majestät. Das Ensemble Tromba Festiva begeistert
  mit einem festlichen\, kraftvollen Klangbild\, das barocke Meisterwerke i
 n neuem Glanz erstrahlen lässt. Die vier Musiker sind ausgewiesene Spezia
 listen für die Musik des Barock – Werke von Vivaldi\, Händel und Bach 
 erklingen brillant\, stilvoll und voller Ausdruck.\nEin besonderes Markenz
 eichen des Ensembles ist sein innovatives Programmkonzept: Klassische Werk
 e werden mit großen Kompositionen der modernen Musik kombiniert. Titel wi
 e Music von John Miles\, We Are The World von Michael Jackson\, eine m
 oderne Bach-Toccata\, Queens Bohemian Rhapsody\, Filmmusik von Ennio Morr
 icone oder A Million Dreams aus The Greatest Showman erhalten in der a
 ußergewöhnlichen Besetzung von Tromba Festiva eine völlig neue Gestalt.
  Das Ergebnis ist ein überraschendes\, mitreißendes und faszinierendes H
 örerlebnis für ein breites Publikum.\nBUCK lesen - schreiben - spielen G
 mbH in Hungen\nBuchhandlung Reinhard in Grünberg
ATTACH;FMTTYPE=image/jpeg:https://laubach-online.de/wp-content/uploads/202
 6/02/tromba-festiva.jpg
CATEGORIES:Konzerte
LOCATION:Stadtkirche Laubach\, Kirchplatz\, Laubach\, Deutschland
GEO:50.542791;8.990438
X-APPLE-STRUCTURED-LOCATION;VALUE=URI;X-ADDRESS=Kirchplatz\, Laubach\, Deut
 schland;X-APPLE-RADIUS=100;X-TITLE=Stadtkirche Laubach:geo:50.542791,8.990
 438
END:VEVENT
END:VCALENDAR