BEGIN:VCALENDAR
VERSION:2.0
PRODID:-//wp-events-plugin.com//7.2.1//EN
TZID:Europe/Berlin
X-WR-TIMEZONE:Europe/Berlin
BEGIN:VEVENT
UID:1484@laubach-online.de
DTSTART:20260621T170000Z
DTEND:20260621T194500Z
DTSTAMP:20260320T084022Z
URL:https://laubach-online.de/events/mixtur-konzerte-mit-der-orgel-4/
SUMMARY:"mixtur" Klarinettenzauber und Orgel
DESCRIPTION:Wenn zwei Klarinetten auf die majestätische Klangfülle der Or
 gel treffen\, entsteht ein musikalischer Dialog von großer Ausdruckskraft
  und seltener Intensität. Die außergewöhnliche Besetzung – zwei Klari
 netten und Orgel – ist eine echte Rarität auf den Konzertbühnen und en
 tfaltet insbesondere im Kirchenraum eine faszinierende Wirkung. Die warmen
 \, virtuosen Klangfarben der Klarinetten verbinden sich mit der orchestral
 en Weite der Orgel zu einem vielschichtigen Klangpanorama\, das den Raum i
 n Schwingung versetzt. Das Programm spannt einen Bogen von klassischen Mei
 sterwerken bis hin zu zeitgenössischen Kompositionen und nutzt die besond
 ere Akustik sakraler Räume auf eindrucksvolle Weise. Gemeinsam bildet das
  Trio Schmuck ein Ensemble von großer klanglicher Präsenz\, Feinheit und
  Leidenschaft – ein Konzerterlebnis von außergewöhnlicher Tiefe und mu
 sikalischer Strahlkraft\, das nachhaltig berührt.\n\nBUCK lesen - schreib
 en - spielen GmbH in Hungen\nBuchhandlung Reinhard in Grünberg
ATTACH;FMTTYPE=image/jpeg:https://laubach-online.de/wp-content/uploads/202
 6/02/1Karte-Klarinettenzauber-und-Orgel-scaled.jpg
CATEGORIES:Konzerte
LOCATION:Stadtkirche Laubach\, Kirchplatz\, Laubach\, Deutschland
GEO:50.542791;8.990438
X-APPLE-STRUCTURED-LOCATION;VALUE=URI;X-ADDRESS=Kirchplatz\, Laubach\, Deut
 schland;X-APPLE-RADIUS=100;X-TITLE=Stadtkirche Laubach:geo:50.542791,8.990
 438
END:VEVENT
END:VCALENDAR