BEGIN:VCALENDAR
VERSION:2.0
PRODID:-//wp-events-plugin.com//7.2.1//EN
TZID:Europe/Berlin
X-WR-TIMEZONE:Europe/Berlin
BEGIN:VEVENT
UID:1351@laubach-online.de
DTSTART:20250613T193000Z
DTEND:20250613T210000Z
DTSTAMP:20250424T130947Z
URL:https://laubach-online.de/events/mixtur-lichtschwerter-und-orgel/
SUMMARY:mixtur - Lichtschwerter und Orgel
DESCRIPTION:Orgel rockt“ trifft auf Sternenkrieger und Lichtschwert\n\nEi
 ne noch nicht gesehene Kombination steht am 13. Juni\, 19.30 Uhr mit dem K
 onzert in der „mixtur“-Konzertreihe an. Patrick Gläser an der Orgel\,
  der für seine „Orgel rockt“-Programme bekannt ist trifft auf die Wel
 t der Sternenkrieger und Lichtschwerter. Wie gewohnt sind dabei bekannte T
 itel aus den Genres Rock\, Pop und Film auf und mit der Orgel interpretier
 t zu hören.\n\nIm Zentrum stehen dabei aber auch die Mitglieder der Saber
  Academy „Outer Rim Alliance 35“\, die in einem Workshop das Basteln v
 on Lichtschwertern anbieten und ihre Choreografien im Rahmen des Konzerts 
 zeigen werden. An vier Nachmittagen vor dem Konzert haben Schülerinnen un
 d Schüler der Theodor-Heuss-Grundschule Gelegenheit sich unter Anleitung 
 ein eigenes Lichtschwert zu basteln. Im Rahmen des Workshops wird aber vie
 l mehr geboten: Richy Müller klärt dabei über Grundsätzliches auf – 
 die Frage nach Gut und Böse sowie deren Relevanz in unserer Demokratie.\n
 \nDer Eintritt zu dem Konzert ist kostenfrei\, um eine Spende zur Deckung 
 der Kosten wird gebeten.\n\nEintrittskarten &amp\; Informationen:\n\nKultu
 r- und Tourismusbüro Laubach\, Bahnhofstraße 1\n\nTel.: 06405-921321 | E
 -Mail: tourist-info@laubach-online.de\n\nWeitere Informationen unter: www.
 mixtur-laubach.de
ATTACH;FMTTYPE=image/jpeg:https://laubach-online.de/wp-content/uploads/202
 5/04/Karte-Lichtschwerter-scaled.jpg
CATEGORIES:Konzerte
LOCATION:Stadtkirche Laubach\, Kirchplatz\, Laubach\, Deutschland
GEO:50.542791;8.990438
X-APPLE-STRUCTURED-LOCATION;VALUE=URI;X-ADDRESS=Kirchplatz\, Laubach\, Deut
 schland;X-APPLE-RADIUS=100;X-TITLE=Stadtkirche Laubach:geo:50.542791,8.990
 438
END:VEVENT
END:VCALENDAR