BEGIN:VCALENDAR
VERSION:2.0
PRODID:-//wp-events-plugin.com//7.2.1//EN
TZID:Europe/Berlin
X-WR-TIMEZONE:Europe/Berlin
BEGIN:VEVENT
UID:974@laubach-online.de
DTSTART:20240627T190000Z
DTEND:20240627T210000Z
DTSTAMP:20240307T134104Z
URL:https://laubach-online.de/events/mixtur-mailand-oder-madrid-hauptsache
 -italien/
SUMMARY:"mixtur" „Mailand oder Madrid\, Hauptsache Italien!“
DESCRIPTION:„Ein Konzert läuft ganz einfach ab: Es dauert 70 Minuten und
  am Ende klatschen alle“ –\nso oder so ähnlich hätte vielleicht der 
 ehemalige englische Nationalspieler Gary Lineker ein gewöhnliches Konzert
  beschrieben.\nAlles andere als gewöhnlich ist aber das Konzert zur Fußb
 all EM 2024 mit dem Trio Tromba Cordiale.\nDas Programm mit Musik für Tro
 mpete\, Cello und Orgel verspricht eine bunte Mischung aus musikalischen P
 erlen verschiedener EM-Teilnehmerländer.\nNeben Musik aus England von Geo
 rg F. Händel („Water Piece” HWV 341) steht “Musica per sognare“ (
 Musik zum Träumen) des italienischen\nKomponisten Enrico Pasini auf dem P
 rogramm. Guy Bovets “Salamanca” für Orgel Solo entführt uns mit Flam
 enco-Klängen nach Spanien.\nAuch musikalische Schätzen aus Norwegen\, Sc
 hweden und Irland sind Teil des abwechslungsreichen Programms von Barock b
 is Moderne.
ATTACH;FMTTYPE=image/jpeg:https://laubach-online.de/wp-content/uploads/202
 4/02/Karte-Fussballvorderseite.jpg
CATEGORIES:Konzerte
LOCATION:Stadtkirche Laubach\, Kirchplatz\, Laubach\, Deutschland
GEO:50.542791;8.990438
X-APPLE-STRUCTURED-LOCATION;VALUE=URI;X-ADDRESS=Kirchplatz\, Laubach\, Deut
 schland;X-APPLE-RADIUS=100;X-TITLE=Stadtkirche Laubach:geo:50.542791,8.990
 438
END:VEVENT
END:VCALENDAR