BEGIN:VCALENDAR
VERSION:2.0
PRODID:-//wp-events-plugin.com//7.2.1//EN
TZID:Europe/Berlin
X-WR-TIMEZONE:Europe/Berlin
BEGIN:VEVENT
UID:972@laubach-online.de
DTSTART:20240713T193000Z
DTEND:20240713T213000Z
DTSTAMP:20240229T100055Z
URL:https://laubach-online.de/events/mixtur-musik-lichtspektakel/
SUMMARY:"mixtur" Musik- & Lichtspektakel
DESCRIPTION:Im Rahmen der Orgelkonzertreihe „mixtur“ werden ein Streich
 erensemble um Katrin Ebert und Organist Klaus Eldert Müller ein Konzert s
 pielen\, in dem eine Lichtinstallation und visuelle Effekte der Musik folg
 en und sie unterstreichen werden. Für das Lichtspektakel zeichnen die Fir
 men Lasertechnix aus Pohlheim und radioaktiv aus Laubach verantwortlich. D
 ie Musiker werden ein Programm mit Orgelkonzerten von Händel und Haydn\, 
 Kirchensonaten von Mozart und anderes spielen.\n\nSo verschmelzen Musik un
 d Technologie zu einem Erlebnis\, das neue Weite und Kreativität freisetz
 t.\n\n. Im Rahmen der Orgelkonzertreihe „mixtur“ werden ein Streichere
 nsemble um Katrin Ebert und Organist Klaus Eldert Müller ein Konzert spie
 len\, in dem eine Lichtinstallation und visuelle Effekte der Musik folgen 
 und sie unterstreichen werden. Für das Lichtspektakel zeichnen die Firmen
  Lasertechnix aus Pohlheim und radioaktiv aus Laubach verantwortlich. Die 
 Musiker werden ein Programm mit Orgelkonzerten von Händel und Haydn\, Kir
 chensonaten von Mozart und anderes spielen.\n\nSo verschmelzen Musik und T
 echnologie zu einem Erlebnis\, das neue Weite und Kreativität freisetzt.
ATTACH;FMTTYPE=image/jpeg:https://laubach-online.de/wp-content/uploads/202
 3/04/Orgel.jpg
CATEGORIES:Konzerte
LOCATION:Stadtkirche Laubach\, Kirchplatz\, Laubach\, Deutschland
GEO:50.542791;8.990438
X-APPLE-STRUCTURED-LOCATION;VALUE=URI;X-ADDRESS=Kirchplatz\, Laubach\, Deut
 schland;X-APPLE-RADIUS=100;X-TITLE=Stadtkirche Laubach:geo:50.542791,8.990
 438
END:VEVENT
END:VCALENDAR