BEGIN:VCALENDAR
VERSION:2.0
PRODID:-//wp-events-plugin.com//7.2.1//EN
TZID:Europe/Berlin
X-WR-TIMEZONE:Europe/Berlin
BEGIN:VEVENT
UID:1350@laubach-online.de
DTSTART:20250516T193000Z
DTEND:20250516T210000Z
DTSTAMP:20250424T130413Z
URL:https://laubach-online.de/events/mixtur-trompete-orgel-ein-klangpraech
 tiges-konzert-in-der-stadtkirche-laubach/
SUMMARY:mixtur - Trompete & Orgel – ein klangprächtiges Konzert in der S
 tadtkirche Laubach
DESCRIPTION:Festlicher Glanz und meditative Tiefe\n\nTrompete &amp\; Orgel 
 – ein klangprächtiges Konzert in der Stadtkirche Laubach\n\n&nbsp\;\n\n
 Am 16. Mai 2025 um 19:30 Uhr lädt die Gemeinnützige Laubacher Kultur und
  Bäder GmbH gemeinsam mit der Evangelischen Kirchengemeinde Laubach zu ei
 nem außergewöhnlichen Konzert in die Stadtkirche Laubach ein. Die pracht
 volle Verbindung von Trompete und Orgel entfaltet sich in einem facettenre
 ichen Programm\, das festliche Barockklänge\, romantische Tiefgründigkei
 t und zeitgenössische Klangwelten vereint.\n\n&nbsp\;\n\nMit Jürgen Elle
 nsohn (Trompete) und Christian Schmitt (Orgel) stehen zwei herausragende I
 nterpreten auf der Bühne\, die virtuos und mit tiefem musikalischen Gesp
 ür Werke von Torelli\, Bach\, Mendelssohn\, Albinoni\, Pärt\, Alain\, Eb
 en und anderen Meistern zum Klingen bringen.\n\n&nbsp\;\n\nDas Programm er
 öffnet mit der strahlenden Sonata in D (G7) von Giuseppe Torelli\, gefolg
 t von der eindringlichen Orgelsonate Nr. 5 in D-Dur von Felix Mendelssohn 
 Bartholdy. Johann Sebastian Bachs Konzertbearbeitung von Vivaldis Concerto
  in D-Dur (BWV 972) verbindet italienische Brillanz mit deutscher Polyphon
 ie. Einen besonderen Moment der Stille schafft Arvo Pärts „Trivium“\,
  ein Werk von meditativer Kraft. Das berühmte Adagio von Tomaso Albinoni 
 entfaltet auf Trompete und Orgel seine melancholische Schönheit.\n\n&nbsp
 \;\n\nMit der Fantasie Nr. 1 von Jean Alain erklingt ein poetisches Werk d
 er französischen Moderne\, bevor Erroll Garners „Misty“ mit warmem Tr
 ompetenton für jazzige Leichtigkeit sorgt. Den krönenden Abschluss bilde
 t Johann Sebastian Bachs monumentale Toccata und Fuge in d-Moll (BWV 565)\
 , ergänzt durch das farbenreiche „Goldene Fenster“ aus Petr Ebens „
 Okna“.\n\n&nbsp\;\n\nEin Abend voller klanglicher Strahlkraft und bewege
 nder Kontraste erwartet Sie. Lassen Sie sich von der einzigartigen Kombina
 tion aus Trompete und Orgel verzaubern!\n\n&nbsp\;\n\nEintrittskarten &amp
 \; Informationen:\n\nKultur- und Tourismusbüro Laubach\, Bahnhofstraße 1
 \n\nTel.: 06405-921321 | E-Mail: tourist-info@laubach-online.de\n\nWeitere
  Informationen unter: www.mixtur-laubach.de\n\n&nbsp\;
ATTACH;FMTTYPE=image/jpeg:https://laubach-online.de/wp-content/uploads/202
 5/04/Karte-vorn-Orgel-und-Trompeter-scaled.jpg
CATEGORIES:Konzerte
LOCATION:Stadtkirche Laubach\, Kirchplatz\, Laubach\, Deutschland
GEO:50.542791;8.990438
X-APPLE-STRUCTURED-LOCATION;VALUE=URI;X-ADDRESS=Kirchplatz\, Laubach\, Deut
 schland;X-APPLE-RADIUS=100;X-TITLE=Stadtkirche Laubach:geo:50.542791,8.990
 438
END:VEVENT
END:VCALENDAR