BEGIN:VCALENDAR
VERSION:2.0
PRODID:-//wp-events-plugin.com//7.2.1//EN
TZID:Europe/Berlin
X-WR-TIMEZONE:Europe/Berlin
BEGIN:VEVENT
UID:1055@laubach-online.de
DTSTART;TZID=Europe/Berlin:20241122T193000
DTEND;TZID=Europe/Berlin:20241122T223000
DTSTAMP:20240905T064225Z
URL:https://laubach-online.de/events/musikalische-lesung-weihnachten-in-de
 r-tudorzeit-mit-tempus-manet/
SUMMARY:Musikalische Lesung \\\\\\"Weihnachten in der Tudorzeit\\\\\\" mit 
 Tempus Manet
DESCRIPTION:Lesung mit Musik gestaltet von Anja Zimmer und der Gruppe Tempu
 s Manet\n\nWeihnachten - von Tudor bis Dickens\nStille Nacht in der Tudor-
 Zeit? Weit gefehlt! Die Weihnachtsnächte des 16. Jahrhunderts waren rausc
 hende Feste und wilde Partys. Mitreißende Tanzmusik\, fröhliche Gesänge
 \, aber auch melancholische Lieder stammen aus dieser Zeit und bieten auch
  heute noch spannende Unterhaltung. Das Ensemble Tempus Manet singt und sp
 ielt mit ansteckender Begeisterung. Anja Zimmer führt durchs Programm und
  beleuchtet die Hintergründe vorchristlicher Rituale\, die auch in der Tu
 dor-Zeit noch ihre Gültigkeit hatten. Seien es weihnachtliche Lobeshymnen
  auf den Apfelbaum\, kollektives Besäufnis oder das Abzocken der Nachbarn
  beim Spielen mit gezinkten Würfeln - das Weihnachtsfest der Tudor-Zeit s
 tellte jede Kirmes in den Schatten. Außerdem gehören seit Dickens Geiste
 rgeschichten zu einem gelungenen Weihnachtsabend unbedingt dazu. Lassen Si
 e sich also in die schottischen Highlands entführen\, wo eine junge Frau 
 noch lange nach ihrem Tod an den weihnachtlichen Ritualen teilnimmt.\n\nKa
 rten sind in der Bücherei und im Pfarrbüro zu den Öffnungszeiten für 1
 5€ erhältlich.\n\nDer Einlass beginnt um 19 Uhr.
CATEGORIES:Lesung
LOCATION:Katholische Kirche St. Elisabeth\, Gerhart-Hautmann-Straße 4\, La
 ubach\, Deutschland
GEO:50.542884;8.986312
X-APPLE-STRUCTURED-LOCATION;VALUE=URI;X-ADDRESS=Gerhart-Hautmann-Straße 4\
 , Laubach\, Deutschland;X-APPLE-RADIUS=100;X-TITLE=Katholische Kirche St. 
 Elisabeth:geo:50.542884,8.986312
END:VEVENT
BEGIN:VTIMEZONE
TZID:Europe/Berlin
X-LIC-LOCATION:Europe/Berlin
BEGIN:STANDARD
DTSTART:20241027T020000
TZOFFSETFROM:+0200
TZOFFSETTO:+0100
TZNAME:CET
END:STANDARD
END:VTIMEZONE
END:VCALENDAR