BEGIN:VCALENDAR
VERSION:2.0
PRODID:-//wp-events-plugin.com//7.2.1//EN
TZID:Europe/Berlin
X-WR-TIMEZONE:Europe/Berlin
BEGIN:VEVENT
UID:1392@laubach-online.de
DTSTART:20251204T190000Z
DTEND:20251204T200000Z
DTSTAMP:20250725T134458Z
URL:https://laubach-online.de/events/online-angebot-elternwissen-leben-als
 -familie-herausfordernde-situationen-im-familienalltag-meistern/
SUMMARY:Online-Angebot "Elternwissen" - Leben als Familie - Herausfordernde
  Situationen im Familienalltag meistern
DESCRIPTION:
END:VEVENT
END:VCALENDAR