BEGIN:VCALENDAR
VERSION:2.0
PRODID:-//wp-events-plugin.com//7.2.1//EN
TZID:Europe/Berlin
X-WR-TIMEZONE:Europe/Berlin
BEGIN:VEVENT
UID:1390@laubach-online.de
DTSTART:20251002T190000Z
DTEND:20251002T200000Z
DTSTAMP:20250725T134311Z
URL:https://laubach-online.de/events/online-angebot-elternwissen-schritt-f
 uer-schritt-die-gesunde-entwicklung-meines-kindes-unterstuetzen/
SUMMARY:Online-Angebot "Elternwissen" - Schritt für Schritt - Die gesunde 
 Entwicklung meines Kindes unterstützen
DESCRIPTION:Wie kann ich die gesunde Entwicklung meines Kindes vom ersten T
 ag an unterstützen? Mit welchen Themen werde ich in den verschiedenen Ent
 wicklungsphasen konfrontiert? Wie finden ich einen guten Weg für mein Kin
 d\, uns als Familie und mich?\nAll diese Fragen beantwortet unsere Kurslei
 tung Chantal in einem einstündigen Online-Elternabend. Selbstverständlic
 h können zwischendurch Fragen gestellt werden. Nach der Anmeldung via Mai
 l erhalten Sie den Online-Link. Das Angebot ist kostenfrei.\n\ns.politsch@
 laubach-online.de
ATTACH;FMTTYPE=image/jpeg:https://laubach-online.de/wp-content/uploads/202
 5/07/Bild-Entwicklungsbegleitung-23.10.2025-scaled.jpg
END:VEVENT
END:VCALENDAR