BEGIN:VCALENDAR
VERSION:2.0
PRODID:-//wp-events-plugin.com//7.2.1//EN
TZID:Europe/Berlin
X-WR-TIMEZONE:Europe/Berlin
BEGIN:VEVENT
UID:1391@laubach-online.de
DTSTART:20251106T190000Z
DTEND:20251106T200000Z
DTSTAMP:20250725T134534Z
URL:https://laubach-online.de/events/online-angebot-elternwissen-sprachlic
 he-entwicklung-die-sprachliche-entwicklung-von-kindern-begleiten-und-verst
 ehen/
SUMMARY:Online-Angebot "Elternwissen" - Sprachliche Entwicklung - Die sprac
 hliche Entwicklung von Kindern begleiten und verstehen
DESCRIPTION:Wie ist die sprachliche Entwicklung von Kindern angelegt und au
 fgebaut? Was brauchen Kinder und wie kann ich unterstützen? \nAll diese F
 ragen beantwortet unsere Kursleitung Chantal in einem einstündigen Online
 -Elternabend. Selbstverständlich können zwischendurch Fragen gestellt we
 rden. Nach der Anmeldung via Mail erhalten Sie den Online-Link. Das Angebo
 t ist kostenfrei.
END:VEVENT
END:VCALENDAR