BEGIN:VCALENDAR
VERSION:2.0
PRODID:-//wp-events-plugin.com//7.2.1//EN
TZID:Europe/Berlin
X-WR-TIMEZONE:Europe/Berlin
BEGIN:VEVENT
UID:1323@laubach-online.de
DTSTART:20250412T110000Z
DTEND:20250412T150000Z
DTSTAMP:20250401T122347Z
URL:https://laubach-online.de/events/osterfest-am-familienzentrum/
SUMMARY:Osterfest am Familienzentrum
DESCRIPTION:Am Samstag 12. April 2025 laden wir vom Familienzentrum und Kin
 der- und Jugendbüro herzlich zum Osterfest ein. Ab 11:00 Uhr finden am Al
 ten Bahnhof verschiedene Spiele und eine Stadtrallye mit kniffeligen Räts
 eln statt.
ATTACH;FMTTYPE=image/jpeg:https://laubach-online.de/wp-content/uploads/202
 5/04/Osterfest.jpg
CATEGORIES:Märkte &amp; Feste
LOCATION:Alter Bahnhof\, Bahnhofstraße 33\, 35321 Laubach\, Deutschland
GEO:50.541713;8.984776
X-APPLE-STRUCTURED-LOCATION;VALUE=URI;X-ADDRESS=Bahnhofstraße 33\, 35321 L
 aubach\, Deutschland;X-APPLE-RADIUS=100;X-TITLE=Alter Bahnhof:geo:50.54171
 3,8.984776
END:VEVENT
END:VCALENDAR