BEGIN:VCALENDAR
VERSION:2.0
PRODID:-//wp-events-plugin.com//7.2.1//EN
TZID:Europe/Berlin
X-WR-TIMEZONE:Europe/Berlin
BEGIN:VEVENT
UID:1430@laubach-online.de
DTSTART:20251025T100000Z
DTEND:20251025T120000Z
DTSTAMP:20250918T132451Z
URL:https://laubach-online.de/events/papa-kind-vormittag/
SUMMARY:Papa-Kind-Vormittag
DESCRIPTION:Bastelt &amp\; bemalt gemeinsam einen Drachen und lasst ihn ste
 igen
ATTACH;FMTTYPE=image/jpeg:https://laubach-online.de/wp-content/uploads/202
 5/09/Papa-Kind-Vormittag.jpg
LOCATION:Alter Bahnhof\, Bahnhofstraße 33\, 35321 Laubach\, Deutschland
GEO:50.541713;8.984776
X-APPLE-STRUCTURED-LOCATION;VALUE=URI;X-ADDRESS=Bahnhofstraße 33\, 35321 L
 aubach\, Deutschland;X-APPLE-RADIUS=100;X-TITLE=Alter Bahnhof:geo:50.54171
 3,8.984776
END:VEVENT
END:VCALENDAR