BEGIN:VCALENDAR
VERSION:2.0
PRODID:-//wp-events-plugin.com//7.2.1//EN
TZID:Europe/Berlin
X-WR-TIMEZONE:Europe/Berlin
BEGIN:VEVENT
UID:299@laubach-online.de
DTSTART:20240720T160000Z
DTEND:20240720T173000Z
DTSTAMP:20240712T072908Z
URL:https://laubach-online.de/events/poesie-am-wegesrand-wege-zur-poesie-4
 /
SUMMARY:Poesie am Wegesrand- Wege zur Poesie
DESCRIPTION:PoesieführerInnen laden zu einem besinnlichen Spaziergang ein\
 , bei dem unterhaltsame Gedichte und Aphorismen entdeckt\, rezitiert und b
 esprochen werden – und noch mehr\, wenn's dem Publikum gefällt. Die Aus
 wahl wurde von Celina Gräfin zu Solms-Laubach und Prof. Sascha Feuchert z
 usammengestellt.\nMan geht im wunderschönen Laubacher Schlosspark und am 
 Ramsberg auf poetische Entdeckungstour.\n\nDie nächste Führung für dies
 es Jahr findet am Samstag\, 20. Juli um\n16 Uhr statt. Da laden die beiden
  PoesieführerInnen zu einem besinnlichen Spaziergang ein.\n\nWeitere Term
 in sind am Sonntag\, 11. August um 15 Uhr\, Samstag\,\n14. September um 16
  Uhr sowie am Sonntag\, 13. Oktober um 15 Uhr.\n\n&nbsp\;\n\nFür Gruppen 
 ab 6 Personen sind auch weitere Führungstermine möglich. Treffpunkt für
  die Führungen sind am Torbogen am Schloss. Die beiden\nPoesieführerInne
 n würden sich über ein Spende freuen.\n\nInfo bei der Laubacher Tourismu
 s und Service GmbH\, Bahnhofstraße 1\, 35321 Laubach\, Tel. 06405 - 921 3
 72 oder tourist-info@laubach-online.de.
ATTACH;FMTTYPE=image/jpeg:https://laubach-online.de/wp-content/uploads/202
 3/02/Poesie-am-Wegesrand-6-scaled.jpg
CATEGORIES:Führungen
LOCATION:Torbogen am Schloss\, Schloss\, Laubach\, 35321\, Deutschland
GEO:50.542507;8.990925
X-APPLE-STRUCTURED-LOCATION;VALUE=URI;X-ADDRESS=Schloss\, Laubach\, 35321\,
  Deutschland;X-APPLE-RADIUS=100;X-TITLE=Torbogen am Schloss:geo:50.542507,
 8.990925
END:VEVENT
END:VCALENDAR