BEGIN:VCALENDAR
VERSION:2.0
PRODID:-//wp-events-plugin.com//7.2.1//EN
TZID:Europe/Berlin
X-WR-TIMEZONE:Europe/Berlin
BEGIN:VEVENT
UID:1309@laubach-online.de
DTSTART:20250330T100000Z
DTEND:20250330T130000Z
DTSTAMP:20250313T074610Z
URL:https://laubach-online.de/events/radball-hessenmeisterschaft-der-u13/
SUMMARY:Radball Hessenmeisterschaft der U13
DESCRIPTION:Die Radballer vom RV 1902 Laubach sind Gastgeber der Hessenmeis
 terschaft der U13.\nWir freuen uns über viele Interessierte\, die zum Zus
 chauen und Anfeuern der Laubacher Mannschaften vorbei kommen.\n\nMehr Info
 s gibt es hier:\nhttps://m.facebook.com/RV02Laubach/
ATTACH;FMTTYPE=image/jpeg:https://laubach-online.de/wp-content/uploads/202
 5/03/Flyer-HM-Radball.jpeg
LOCATION:Sport- und Kulturhalle Laubach\, Felix-Klipstein-Weg 23\, Laubach\
 , 35321\, Deutschland
GEO:50.548938;8.987553
X-APPLE-STRUCTURED-LOCATION;VALUE=URI;X-ADDRESS=Felix-Klipstein-Weg 23\, La
 ubach\, 35321\, Deutschland;X-APPLE-RADIUS=100;X-TITLE=Sport- und Kulturha
 lle Laubach:geo:50.548938,8.987553
END:VEVENT
END:VCALENDAR