BEGIN:VCALENDAR
VERSION:2.0
PRODID:-//wp-events-plugin.com//7.2.1//EN
TZID:Europe/Berlin
X-WR-TIMEZONE:Europe/Berlin
BEGIN:VEVENT
UID:1310@laubach-online.de
DTSTART:20250406T100000Z
DTEND:20250406T140000Z
DTSTAMP:20250313T074715Z
URL:https://laubach-online.de/events/radball-hessenpokal-der-u13-und-u15/
SUMMARY:Radball Hessenpokal der U13 und U15
DESCRIPTION:Die Radballer vom RV 1902 Laubach sind Gastgeber der Spiele zum
  Hessen-Pokal der Altersstufen U13 und U15.\nWir freuen uns über viele In
 teressierte\, die zum Zuschauen und Anfeuern der Laubacher Mannschaften vo
 rbei kommen.\n\nMehr Infos gibt es hier:\nhttps://m.facebook.com/RV02Lauba
 ch/
ATTACH;FMTTYPE=image/jpeg:https://laubach-online.de/wp-content/uploads/202
 5/03/Flyer-HM-Radball.jpeg
CATEGORIES:Sportveranstaltungen
LOCATION:Sport- und Kulturhalle Laubach\, Felix-Klipstein-Weg 23\, Laubach\
 , 35321\, Deutschland
GEO:50.548938;8.987553
X-APPLE-STRUCTURED-LOCATION;VALUE=URI;X-ADDRESS=Felix-Klipstein-Weg 23\, La
 ubach\, 35321\, Deutschland;X-APPLE-RADIUS=100;X-TITLE=Sport- und Kulturha
 lle Laubach:geo:50.548938,8.987553
END:VEVENT
END:VCALENDAR