BEGIN:VCALENDAR
VERSION:2.0
PRODID:-//wp-events-plugin.com//7.2.1//EN
TZID:Europe/Berlin
X-WR-TIMEZONE:Europe/Berlin
BEGIN:VEVENT
UID:1311@laubach-online.de
DTSTART:20250427T100000Z
DTEND:20250427T140000Z
DTSTAMP:20250312T103314Z
URL:https://laubach-online.de/events/radball-viertelfinale-zur-deutschen-m
 eisterschaft/
SUMMARY:Radball Viertelfinale zur Deutschen Meisterschaft
DESCRIPTION:Die Radballer vom RV 1902 Laubach sind Gastgeber der Viertelfin
 alspiele zur Deutschen Meisterschaft.\nWir freuen uns über viele Interess
 ierte\, die zum Zuschauen und Anfeuern der Laubacher Mannschaften vorbei k
 ommen.\n\nMehr Infos gibt es hier:\nhttps://m.facebook.com/RV02Laubach/
CATEGORIES:Sportveranstaltungen
LOCATION:Sport- und Kulturhalle Laubach\, Felix-Klipstein-Weg 23\, Laubach\
 , 35321\, Deutschland
GEO:50.548938;8.987553
X-APPLE-STRUCTURED-LOCATION;VALUE=URI;X-ADDRESS=Felix-Klipstein-Weg 23\, La
 ubach\, 35321\, Deutschland;X-APPLE-RADIUS=100;X-TITLE=Sport- und Kulturha
 lle Laubach:geo:50.548938,8.987553
END:VEVENT
END:VCALENDAR