BEGIN:VCALENDAR
VERSION:2.0
PRODID:-//wp-events-plugin.com//7.2.1//EN
TZID:Europe/Berlin
X-WR-TIMEZONE:Europe/Berlin
BEGIN:VEVENT
UID:1364@laubach-online.de
DTSTART:20250607T100000Z
DTEND:20250607T100000Z
DTSTAMP:20250602T144240Z
URL:https://laubach-online.de/events/radfahren-verbindet/
SUMMARY:Radfahren verbindet
DESCRIPTION:Die Großgemeinde Laubach lädt im Rahmen des Stadtradelns 2025
  zu einer besonderen gemeinsamen Radtour ein\, bei der alle Stadtteile mit
 einander verbunden werden. Startpunkt ist am 07.06.2025 um 10:00 Uhr auf d
 em Marktplatz in Laubach. Von dort führt die rund 50 Kilometer lange Stre
 cke mit etwa 760 Höhenmetern durch sämtliche Ortsteile – ein sportlich
 es Gemeinschaftserlebnis für Jung und Alt.\n\nDie Tour findet im Aktionsz
 eitraum des Stadtradelns bis 14. Juni 2025 statt und bietet eine tolle Gel
 egenheit\, Kilometer zu sammeln\, das Klima zu schützen und dabei die Vie
 lfalt der Großgemeinde Laubach zu erleben.\n\nDie Route wurde von den Rad
 wegebeauftragten der Stadt\, Hagen Hartmann und Marco Schindler\, sorgfäl
 tig geplant. Sie führt zunächst über Ruppertsburg\, Röthges\, Münster
  und Wetterfeld nach Lauter. Dort besteht eine Ausstiegsmöglichkeit für 
 alle\, die nur die halbe Strecke fahren möchten.\n\nWer die komplette Tou
 r mitradelt\, fährt anschließend weiter über Gonterskirchen\, Altenhain
  und Freienseen – bevor es zurück auf den Marktplatz in Laubach geht.\n
 \nAlle Bürgerinnen und Bürger\, Familien\, Freizeitradler und Sportbegei
 sterte sind herzlich eingeladen\, sich zu beteiligen. Die Tour bietet nich
 t nur sportliche Aktivität\, sondern auch Gemeinschaft\, Natur und den be
 wussten Umgang mit nachhaltiger Mobilität.\n\nHinweis: Bitte denken Sie a
 n witterungsgerechte Kleidung\, ausreichend Wasser und einen verkehrstüch
 tigen Helm. Die Teilnahme erfolgt auf eigene Verantwortung.\n\n&nbsp\;\n\n
 Kontakt für Rückfragen:\n\nBitte um Anmeldung unter 06405-921321 oder to
 urist-info@laubach-online.de\, damit die Radwegebeauftragten planen könne
 n.\n\nNach Abschluss der Tour ist geplant\, dass man die Tour noch mit ein
 em gemeinsamen Beisammensein Revue passieren lässt\, Details werden im La
 ufe der Tour geklärt.\n\n* Die Teilnahme mit dem E-Bike wird empfohlen.\n
 \n* Die Tour führt über Asphalt\, Schotter- und Waldwege. Erfahrungen mi
 t dem E-Bike sind erforderlich\n\n* Das Tragen eines Radhelms ist Pflicht
ATTACH;FMTTYPE=image/jpeg:https://laubach-online.de/wp-content/uploads/202
 5/06/Tour-RAdfahren-verbindt.jpg
LOCATION:Markt- und Kirchplatz\, Marktplatz\, Laubach\, Deutschland
GEO:50.54235;8.99029
X-APPLE-STRUCTURED-LOCATION;VALUE=URI;X-ADDRESS=Marktplatz\, Laubach\, Deut
 schland;X-APPLE-RADIUS=100;X-TITLE=Markt- und Kirchplatz:geo:50.54235,8.99
 029
END:VEVENT
END:VCALENDAR