BEGIN:VCALENDAR
VERSION:2.0
PRODID:-//wp-events-plugin.com//7.2.1//EN
TZID:Europe/Berlin
X-WR-TIMEZONE:Europe/Berlin
BEGIN:VEVENT
UID:1024@laubach-online.de
DTSTART:20240526T150000Z
DTEND:20240526T163000Z
DTSTAMP:20240524T114006Z
URL:https://laubach-online.de/events/ravels-maerchenwelt-kunst-musik-und-m
 aerchen-fuer-kinder/
SUMMARY:Ravels Märchenwelt - Kunst\, Musik und Märchen für Kinder
DESCRIPTION:
ATTACH;FMTTYPE=image/jpeg:https://laubach-online.de/wp-content/uploads/202
 4/05/lenameyerravel.jpg
CATEGORIES:Konzerte
LOCATION:Rathaussaal\, Friedrichstraße 11\, Laubach\, 35321\, Deutschland
GEO:50.540895;8.991633
X-APPLE-STRUCTURED-LOCATION;VALUE=URI;X-ADDRESS=Friedrichstraße 11\, Lauba
 ch\, 35321\, Deutschland;X-APPLE-RADIUS=100;X-TITLE=Rathaussaal:geo:50.540
 895,8.991633
END:VEVENT
END:VCALENDAR