BEGIN:VCALENDAR
VERSION:2.0
PRODID:-//wp-events-plugin.com//7.2.1//EN
TZID:Europe/Berlin
X-WR-TIMEZONE:Europe/Berlin
BEGIN:VEVENT
UID:1099@laubach-online.de
DTSTART:20250125T143000Z
DTEND:20250125T170000Z
DTSTAMP:20241217T080020Z
URL:https://laubach-online.de/events/repair-cafe-3/
SUMMARY:Repair-Café
DESCRIPTION:Ehrenamtliche Reparateure bieten kostenfrei kleine Reparaturen 
 an elektrischen und elektronischen Geräten\, mechanischen Geräten (z.B. 
 Rasenmäher)\, Computern\, Laptops und Tablets sowie Holzgegenständen aus
  dem Privathaushalt an.\nUnterstützt wird das Angebot durch das Repair-Ca
 fé in Pohlheim\, das Mehrgenerationenhaus der Oberhessischen Diakonie\, d
 ie Stadt Laubach als auch durch den Seniorenbeirat.Während der Wartezeite
 n besteht die Möglichkeit\, sich bei Kaffee und Kuchen zu begegnen und au
 szutauschen.\nWeitere Unterstützung ist gerne gesehen – Sollten Sie Int
 eresse haben\, sich an dem Projekt zu beteiligen oder weitere Informatione
 n wünschen\, wenden Sie sich gerne an Annika Sturm (0151/ 633 05 160 oder
  gwa-laubach@zaug.de).\n\nDas Repair-Café ist ein Angebot der Gemeinwesen
 arbeit in Kooperation mit der Stadt Laubach und dem Mehrgenerationenhaus d
 er Oberhessischen Diakonie.\nDie Gemeinwesenarbeit im Landkreis Gießen wi
 rd gefördert aus Mitteln des Landes Hessen und des Landkreises Gießen. U
 mgesetzt wird die Gemeinwesenarbeit im Landkreis Gießen vom „Zentrum Ar
 beit und Umwelt – Gießener gemeinnützige Berufsbildungsgesellschaft mb
 H“ (ZAUG gGmbH).
ATTACH;FMTTYPE=image/jpeg:https://laubach-online.de/wp-content/uploads/202
 4/12/Veranstaltungskalender_Laubach_Repair.png
LOCATION:Alter Bahnhof\, Bahnhofstraße 33\, 35321 Laubach\, Deutschland
GEO:50.541713;8.984776
X-APPLE-STRUCTURED-LOCATION;VALUE=URI;X-ADDRESS=Bahnhofstraße 33\, 35321 L
 aubach\, Deutschland;X-APPLE-RADIUS=100;X-TITLE=Alter Bahnhof:geo:50.54171
 3,8.984776
END:VEVENT
END:VCALENDAR