BEGIN:VCALENDAR
VERSION:2.0
PRODID:-//wp-events-plugin.com//7.2.1//EN
TZID:Europe/Berlin
X-WR-TIMEZONE:Europe/Berlin
BEGIN:VEVENT
UID:1108@laubach-online.de
DTSTART:20250215T143000Z
DTEND:20250215T170000Z
DTSTAMP:20250128T121101Z
URL:https://laubach-online.de/events/repair-cafe-4/
SUMMARY:Repair-Café
DESCRIPTION:„Reparieren\, kommunizieren\, schnabulieren“\n\nAufgrund de
 r anstehenden Neuwahlen findet das Repair-Café im Februar am 15.02.2024 v
 on 14:30 Uhr bis 17 Uhr im Alten Bahnhof statt.\nEhrenamtliche Reparateure
  bieten kostenfrei kleine Reparaturen an elektrischen und elektronischen G
 eräten\, mechanischen Geräten (z.B. Rasenmäher)\, Computern\, Laptops u
 nd Tablets sowie Holzgegenständen aus dem Privathaushalt an. Bei Interess
 e an kleinen Reparaturen an Fahrrädern wird um Anmeldung bei der Koordina
 torin für Gemeinwesenarbeit\, Annika Sturm\, gebeten (0151/ 633 05 160 od
 er gwa-laubach@zaug.de). Unterstützt wird das Angebot durch das Repair-Ca
 fé in Pohlheim\, das Mehrgenerationenhaus der Oberhessischen Diakonie\, d
 ie Stadt Laubach als auch durch den Seniorenbeirat.Während der Wartezeite
 n besteht die Möglichkeit\, sich bei Kaffee und Kuchen zu begegnen und au
 szutauschen.\nWeitere Unterstützung ist gerne gesehen – Sollten Sie Int
 eresse haben\, sich an dem Projekt zu beteiligen oder weitere Informatione
 n wünschen\, wenden Sie sich gerne an Annika Sturm.\nDas Repair-Café ist
  ein Angebot der Gemeinwesenarbeit in Kooperation mit der Stadt Laubach un
 d dem Mehrgenerationenhaus der Oberhessischen Diakonie.\nDie Gemeinwesenar
 beit im Landkreis Gießen wird gefördert aus Mitteln des Landes Hessen un
 d des Landkreises Gießen. Umgesetzt wird die Gemeinwesenarbeit im Landkre
 is Gießen vom „Zentrum Arbeit und Umwelt – Gießener gemeinnützige B
 erufsbildungsgesellschaft mbH“ (ZAUG gGmbH).
ATTACH;FMTTYPE=image/jpeg:https://laubach-online.de/wp-content/uploads/202
 5/01/Veranstaltungskalender_Laubach_Repair.png
LOCATION:Alter Bahnhof\, Bahnhofstraße 33\, 35321 Laubach\, Deutschland
GEO:50.541713;8.984776
X-APPLE-STRUCTURED-LOCATION;VALUE=URI;X-ADDRESS=Bahnhofstraße 33\, 35321 L
 aubach\, Deutschland;X-APPLE-RADIUS=100;X-TITLE=Alter Bahnhof:geo:50.54171
 3,8.984776
END:VEVENT
END:VCALENDAR