BEGIN:VCALENDAR
VERSION:2.0
PRODID:-//wp-events-plugin.com//7.2.1//EN
TZID:Europe/Berlin
X-WR-TIMEZONE:Europe/Berlin
BEGIN:VEVENT
UID:1367@laubach-online.de
DTSTART:20250628T143000Z
DTEND:20250628T170000Z
DTSTAMP:20250624T125050Z
URL:https://laubach-online.de/events/repair-cafe-laubach-2/
SUMMARY:Repair-Café Laubach
DESCRIPTION:„Reparieren\, kommunizieren\, schnabulieren“ – Repair-Caf
 é Laubach erweitert Repertoire mit Näharbeiten\nDas Repair-Café in Laub
 ach öffnet wieder am 28.06.2025 von 14:30 Uhr bis 17 Uhr im Alten Bahnhof
  seine Türen. Dieses Mal werden auch kleinere Näharbeiten möglich sein 
 (Annähen von Knöpfen\, Löcher stopfen\, etc.).\nEhrenamtliche Reparateu
 re bieten kostenfrei kleine Reparaturen in folgenden Bereichen an:\nElektr
 onik (z.B. Musikanlagen\, Küchengeräte\, Lampen\, TV)\nMechanik (z.B. Ra
 senmäher\, Haushaltsgeräte)\nFahrräder\nIT (z.B. Computer\, Tablets\, S
 martphones\, Drucker)\nHolz (z.B. Holzfiguren\, Spielzeug)\nSollten Sie In
 teresse an kleinen Reparaturen an Fahrrädern\, IT-Reparaturen oder Nähar
 beiten haben\, wird um Anmeldung bei der Koordinatorin für Gemeinwesenarb
 eit\, Annika Sturm\, gebeten (0151/ 633 05 160 oder gwa-laubach@zaug.de). 
 Unterstützt wird das Angebot durch das Repair-Café in Pohlheim\, das Meh
 rgenerationenhaus der Oberhessischen Diakonie\, die Stadt Laubach sowie du
 rch den Seniorenbeirat. Während der Wartezeiten besteht die Möglichkeit\
 , sich bei Kaffee und Kuchen zu begegnen und auszutauschen.\nWeitere Unter
 stützung ist gerne gesehen – Sollten Sie Interesse haben\, sich an dem 
 Projekt zu beteiligen oder weitere Informationen wünschen\, wenden Sie si
 ch gerne an Annika Sturm.\nWichtig: Wir bitten Sie\, aus Rücksicht auf di
 e anderen Besucher\, keine Haustiere mitzubringen.\nDie Gemeinwesenarbeit 
 im Landkreis Gießen wird gefördert aus Mitteln des Landes Hessen und des
  Landkreises Gießen. Umgesetzt wird die Gemeinwesenarbeit im Landkreis Gi
 eßen vom „Zentrum Arbeit und Umwelt – Gießener gemeinnützige Berufs
 bildungsgesellschaft mbH“ (ZAUG gGmbH).
CATEGORIES:Märkte &amp; Feste
LOCATION:Alter Bahnhof\, Bahnhofstraße 33\, 35321 Laubach\, Deutschland
GEO:50.541713;8.984776
X-APPLE-STRUCTURED-LOCATION;VALUE=URI;X-ADDRESS=Bahnhofstraße 33\, 35321 L
 aubach\, Deutschland;X-APPLE-RADIUS=100;X-TITLE=Alter Bahnhof:geo:50.54171
 3,8.984776
END:VEVENT
END:VCALENDAR