BEGIN:VCALENDAR
VERSION:2.0
PRODID:-//wp-events-plugin.com//7.2.1//EN
TZID:Europe/Berlin
X-WR-TIMEZONE:Europe/Berlin
BEGIN:VEVENT
UID:1388@laubach-online.de
DTSTART:20250726T143000Z
DTEND:20250726T170000Z
DTSTAMP:20250703T132151Z
URL:https://laubach-online.de/events/repair-cafe-laubach-3/
SUMMARY:Repair-Café Laubach
DESCRIPTION:Das Repair-Café in Laubach öffnet wieder am 26.07.2025 von 14
 :30 Uhr bis 17 Uhr im Alten Bahnhof seine Türen. Dieses Mal werden auch k
 leinere Näharbeiten möglich sein (Annähen von Knöpfen\, Löcher stopfe
 n\, etc.).\nEhrenamtliche Reparateure bieten kostenfrei kleine Reparaturen
  in folgenden Bereichen an:\nElektronik (z.B. Musikanlagen\, Küchengerät
 e\, Lampen\, TV)\nMechanik (z.B. Rasenmäher\, Haushaltsgeräte)\nFahrräd
 er\nIT (z.B. Computer\, Tablets\, Smartphones\, Drucker)\nHolz (z.B. Holzf
 iguren\, Spielzeug)\nNäharbeiten (z.B. Annähen von Knöpfen\, Stopfen vo
 n Löchern)\n\nSollten Sie Interesse an kleinen Reparaturen an Fahrrädern
 \, IT-Reparaturen oder Näharbeiten haben\, wird um Anmeldung bei der Koor
 dinatorin für Gemeinwesenarbeit\, Annika Sturm\, gebeten (0151/ 633 05 16
 0 oder gwa-laubach@zaug.de). Unterstützt wird das Angebot durch das Repai
 r-Café in Pohlheim\, das Mehrgenerationenhaus der Oberhessischen Diakonie
 \, die Stadt Laubach sowie durch den Seniorenbeirat. Während der Wartezei
 ten besteht die Möglichkeit\, sich bei Kaffee und Kuchen zu begegnen und 
 auszutauschen.\nWeitere Unterstützung ist gerne gesehen – Sollten Sie I
 nteresse haben\, sich an dem Projekt zu beteiligen oder weitere Informatio
 nen wünschen\, wenden Sie sich gerne an Annika Sturm.\nWichtig: Wir bitte
 n Sie\, aus Rücksicht auf die anderen Besucher\, keine Haustiere mitzubri
 ngen.\nDie Gemeinwesenarbeit im Landkreis Gießen wird gefördert aus Mitt
 eln des Landes Hessen und des Landkreises Gießen. Umgesetzt wird die Geme
 inwesenarbeit im Landkreis Gießen vom „Zentrum Arbeit und Umwelt – Gi
 eßener gemeinnützige Berufsbildungsgesellschaft mbH“ (ZAUG gGmbH).
ATTACH;FMTTYPE=image/jpeg:https://laubach-online.de/wp-content/uploads/202
 5/07/Kopie-von-Repair-Cafe-Laubach_Plakat33_Veranstaltungskalender_Mai.png
CATEGORIES:Märkte &amp; Feste
LOCATION:Alter Bahnhof\, Bahnhofstraße 33\, 35321 Laubach\, Deutschland
GEO:50.541713;8.984776
X-APPLE-STRUCTURED-LOCATION;VALUE=URI;X-ADDRESS=Bahnhofstraße 33\, 35321 L
 aubach\, Deutschland;X-APPLE-RADIUS=100;X-TITLE=Alter Bahnhof:geo:50.54171
 3,8.984776
END:VEVENT
END:VCALENDAR