BEGIN:VCALENDAR
VERSION:2.0
PRODID:-//wp-events-plugin.com//7.2.1//EN
TZID:Europe/Berlin
X-WR-TIMEZONE:Europe/Berlin
BEGIN:VEVENT
UID:1445@laubach-online.de
DTSTART:20251025T143000Z
DTEND:20251025T170000Z
DTSTAMP:20250925T132242Z
URL:https://laubach-online.de/events/repair-cafe-laubach-4/
SUMMARY:Repair-Café Laubach
DESCRIPTION:Am 25.10.2025 ist es wieder soweit: das Repair-Café in Laubach
  öffnet von 14:30 Uhr bis 17 Uhr im Alten Bahnhof seine Türen und widmet
  sich in diesem Zuge einem wichtigen Thema.\nNur vier Tage vor dem diesjä
 hrigen internationalen Repair-Day am 18.10.\, stellt Microsoft nun offizie
 ll den Support für Windows 10 ein\, was\, allen Erwartungen nach\, Unmeng
 en an Elektroschrott mit sich bringen wird.\nDas Repair-Café Laubach möc
 hte hier\, getreu des Auftrages im Bereich der Nachhaltigkeit\, einen Beit
 rag leisten\, dieser Entwicklung möglichst entgegenzuwirken. Entsprechend
  groß ist die Freude\, dass die Mitarbeitenden des neuetablierten Digital
 -Treffs in Laubach am 25.10. mit einer offenen Informations- und Beratungs
 möglichkeit vor Ort sein werden. Denn: Computer\, die vom Ende des Window
 s 10 Supportes betroffen sind\, können beispielsweise durch das Umstellen
  auf das Linux Betriebssystem auch weiterhin nutzbar gemacht werden – ei
 n Thema\, zu dem die Mitarbeitenden gerne angesprochen werden können.\nAn
 sonsten gilt wie immer:\nEhrenamtliche Reparateure bieten kostenfrei klein
 e Reparaturen in folgenden Bereichen an:\nElektronik (z.B. Musikanlagen\, 
 Küchengeräte\, Lampen\, TV)\nMechanik (z.B. Rasenmäher\, Haushaltsgerä
 te)\nFahrräder\nIT (z.B. Computer\, Tablets\, Smartphones\, Drucker)\nHol
 z (z.B. Holzfiguren\, Spielzeug)\nNäharbeiten (z.B. Annähen von Knöpfen
 \, Stopfen von Löchern)\nSollten Sie Interesse an kleinen Reparaturen an 
 Fahrrädern\, IT-Reparaturen oder Näharbeiten haben\, wird ab dem 17.10. 
 um Anmeldung bei der Koordinatorin für Gemeinwesenarbeit\, Annika Sturm\,
  gebeten (0151/ 633 05 160 oder gwa-laubach@zaug.de). Unterstützt wird da
 s Angebot durch das Repair-Café in Pohlheim\, das Mehrgenerationenhaus de
 r Oberhessischen Diakonie\, die Stadt Laubach sowie durch den Seniorenbeir
 at. Während der Wartezeiten besteht die Möglichkeit\, sich bei Kaffee un
 d Kuchen zu begegnen und auszutauschen.\nWeitere Unterstützung ist gerne 
 gesehen – Sollten Sie Interesse haben\, sich an dem Projekt zu beteilige
 n oder weitere Informationen wünschen\, wenden Sie sich gerne an Annika S
 turm.\nWichtig: Wir bitten Sie\, aus Rücksicht auf die anderen Besucher\,
  keine Haustiere mitzubringen.\nDie Gemeinwesenarbeit im Landkreis Gießen
  wird gefördert aus Mitteln des Landes Hessen und des Landkreises Gießen
 . Umgesetzt wird die Gemeinwesenarbeit im Landkreis Gießen vom „Zentrum
  Arbeit und Umwelt – Gießener gemeinnützige Berufsbildungsgesellschaft
  mbH“ (ZAUG gGmbH).
ATTACH;FMTTYPE=image/jpeg:https://laubach-online.de/wp-content/uploads/202
 5/09/Repair-Cafe-Laubach-Datum2.png
CATEGORIES:Märkte &amp; Feste
LOCATION:Alter Bahnhof\, Bahnhofstraße 33\, 35321 Laubach\, Deutschland
GEO:50.541713;8.984776
X-APPLE-STRUCTURED-LOCATION;VALUE=URI;X-ADDRESS=Bahnhofstraße 33\, 35321 L
 aubach\, Deutschland;X-APPLE-RADIUS=100;X-TITLE=Alter Bahnhof:geo:50.54171
 3,8.984776
END:VEVENT
END:VCALENDAR