BEGIN:VCALENDAR
VERSION:2.0
PRODID:-//wp-events-plugin.com//7.2.1//EN
TZID:Europe/Berlin
X-WR-TIMEZONE:Europe/Berlin
BEGIN:VEVENT
UID:1457@laubach-online.de
DTSTART:20251122T143000Z
DTEND:20251122T170000Z
DTSTAMP:20251107T095632Z
URL:https://laubach-online.de/events/repair-cafe-laubach-5/
SUMMARY:Repair-Café Laubach
DESCRIPTION:„Reparieren\, kommunizieren\, schnabulieren“: Repair-Café 
 Laubach – Letzter Termin vor der Winterpause\nAm 22.11.2025 öffnet das 
 Repair-Café in Laubach von 14:30 Uhr bis 17 Uhr im Alten Bahnhof seine T
 üren\, bevor es in die wohlverdiente Winterpause geht.\nAuch dieses Mal b
 esteht die Möglichkeit\, Laptops oder Desktop-Computer durch Dr. Diego Se
 mmler auf Linux umrüsten zu lassen. Wichtig: Führen Sie bitte vorher ein
  Backup Ihrer Daten durch\, da dies im zeitlichen Rahmen des Repair-Cafés
  nicht durchführbar ist.\n_______________________________________________
 __________________________\nAnsonsten gilt wie immer:\nEhrenamtliche Repar
 ateure bieten kostenfrei kleine Reparaturen in folgenden Bereichen an:\nEl
 ektronik (z.B. Musikanlagen\, Küchengeräte\, Lampen\, TV)\nMechanik (z.B
 . Rasenmäher\, Haushaltsgeräte)\nFahrräder\nIT (z.B. Computer\, Tablets
 \, Smartphones\, Drucker)\nHolz (z.B. Holzfiguren\, Spielzeug)\nNäharbeit
 en (z.B. Annähen von Knöpfen\, Stopfen von Löchern)\n__________________
 _______________________________________________________\nBei Interesse an 
 Fahrrad-\, IT- und Holzreparaturen sowie Näharbeiten wird um Anmeldung be
 i der Koordinatorin für Gemeinwesenarbeit\, Annika Sturm\, gebeten (0151/
 633 05 160 oder gwa-laubach@zaug.de).\nUnterstützt wird das Angebot durch
  das Repair-Café in Pohlheim\, das Mehrgenerationenhaus der Oberhessische
 n Diakonie\, die Stadt Laubach sowie durch den Seniorenbeirat. Während de
 r Wartezeiten besteht die Möglichkeit\, sich bei Kaffee und Kuchen zu beg
 egnen und auszutauschen.\nWeitere Unterstützung ist gerne gesehen – Sol
 lten Sie Interesse haben\, sich an dem Projekt zu beteiligen oder weitere 
 Informationen wünschen\, wenden Sie sich gerne an Annika Sturm.\nDie Geme
 inwesenarbeit im Landkreis Gießen wird gefördert aus Mitteln des Landes 
 Hessen und des Landkreises Gießen. Umgesetzt wird die Gemeinwesenarbeit i
 m Landkreis Gießen vom „Zentrum Arbeit und Umwelt – Gießener gemeinn
 ützige Berufsbildungsgesellschaft mbH“ (ZAUG gGmbH).
ATTACH;FMTTYPE=image/jpeg:https://laubach-online.de/wp-content/uploads/202
 5/11/Kopie-von-Repair-Cafe-Laubach-Datum_Linux.png
LOCATION:Alter Bahnhof\, Bahnhofstraße 33\, 35321 Laubach\, Deutschland
GEO:50.541713;8.984776
X-APPLE-STRUCTURED-LOCATION;VALUE=URI;X-ADDRESS=Bahnhofstraße 33\, 35321 L
 aubach\, Deutschland;X-APPLE-RADIUS=100;X-TITLE=Alter Bahnhof:geo:50.54171
 3,8.984776
END:VEVENT
END:VCALENDAR