BEGIN:VCALENDAR
VERSION:2.0
PRODID:-//wp-events-plugin.com//7.2.1//EN
TZID:Europe/Berlin
X-WR-TIMEZONE:Europe/Berlin
BEGIN:VEVENT
UID:1460@laubach-online.de
DTSTART:20260228T143000Z
DTEND:20260228T170000Z
DTSTAMP:20251204T141054Z
URL:https://laubach-online.de/events/repair-cafe-laubach-6/
SUMMARY:Repair-Café Laubach
DESCRIPTION:„Reparieren\, kommunizieren\, schnabulieren“ – Repair-Caf
 é Laubach\nDas Repair-Café in Laubach öffnet wieder am 28.02.2026 von 1
 4:30 Uhr bis 17 Uhr im Alten Bahnhof seine Türen.\nEhrenamtliche Reparate
 ure bieten kostenfrei kleine Reparaturen in folgenden Bereichen an:\nElekt
 ronik (z.B. Musikanlagen\, Küchengeräte\, Lampen\, TV)\nMechanik (z.B. R
 asenmäher\, Haushaltsgeräte)\nFahrräder\nIT (z.B. Computer\, Tablets\, 
 Smartphones\, Drucker)\nHolz (z.B. Holzfiguren\, Spielzeug)\nNäharbeiten 
 (z.B. Annähen von Knöpfen\, Stopfen von Löchern)\nSollten Sie Interesse
  an kleinen Reparaturen an Fahrrädern\, IT-Reparaturen oder Näharbeiten 
 haben\, wird um Anmeldung bei der Koordinatorin für Gemeinwesenarbeit\, A
 nnika Sturm\, gebeten (0151/ 633 05 160 oder gwa-laubach@zaug.de). Unterst
 ützt wird das Angebot durch das Repair-Café in Pohlheim\, das Mehrgenera
 tionenhaus der Oberhessischen Diakonie\, die Stadt Laubach sowie durch den
  Seniorenbeirat. Während der Wartezeiten besteht die Möglichkeit\, sich 
 bei Kaffee und Kuchen zu begegnen und auszutauschen.\nWeitere Unterstützu
 ng ist gerne gesehen – Sollten Sie Interesse haben\, sich an dem Projekt
  zu beteiligen oder weitere Informationen wünschen\, wenden Sie sich gern
 e an Annika Sturm.\nWichtig: Wir bitten Sie\, aus Rücksicht auf die ander
 en Besucher\, keine Haustiere mitzubringen.\nDie Gemeinwesenarbeit im Land
 kreis Gießen wird gefördert aus Mitteln des Landes Hessen und des Landkr
 eises Gießen. Umgesetzt wird die Gemeinwesenarbeit im Landkreis Gießen v
 om „Zentrum Arbeit und Umwelt – Gießener gemeinnützige Berufsbildung
 sgesellschaft mbH“ (ZAUG gGmbH).
ATTACH;FMTTYPE=image/jpeg:https://laubach-online.de/wp-content/uploads/202
 5/09/Repair-Cafe-19.9.png
LOCATION:Alter Bahnhof\, Bahnhofstraße 33\, 35321 Laubach\, Deutschland
GEO:50.541713;8.984776
X-APPLE-STRUCTURED-LOCATION;VALUE=URI;X-ADDRESS=Bahnhofstraße 33\, 35321 L
 aubach\, Deutschland;X-APPLE-RADIUS=100;X-TITLE=Alter Bahnhof:geo:50.54171
 3,8.984776
END:VEVENT
END:VCALENDAR