BEGIN:VCALENDAR
VERSION:2.0
PRODID:-//wp-events-plugin.com//7.2.1//EN
TZID:Europe/Berlin
X-WR-TIMEZONE:Europe/Berlin
BEGIN:VEVENT
UID:1517@laubach-online.de
DTSTART:20260328T143000Z
DTEND:20260328T170000Z
DTSTAMP:20260310T091136Z
URL:https://laubach-online.de/events/repair-cafe-laubach-7/
SUMMARY:Repair-Café Laubach
DESCRIPTION:„Reparieren\, kommunizieren\, schnabulieren“: Repair-Café 
 Laubach\nDas Repair-Café in Laubach ist am 28.03.2026 von 14:30 Uhr bis 1
 7 Uhr im Alten Bahnhof geöffnet.\nEhrenamtliche Reparateure bieten kosten
 frei kleine Reparaturen in folgenden Bereichen an:\nElektronik (z.B. Musik
 anlagen\, Küchengeräte\, Lampen\, TV)\nFahrräder (nur mit Anmeldung!)\n
 IT (z.B. Computer\, Tablets\, Smartphones\, Drucker) (nur mit Anmeldung!)\
 nNäharbeiten (nur mit Anmeldung!)\nAnmeldung bei der Koordinatorin für G
 emeinwesenarbeit\, Annika Sturm\, unter 0151/633 05 160 oder gwa-laubach@z
 aug.de.\nUnterstützt wird das Angebot durch das Repair-Café in Pohlheim\
 , das Mehrgenerationenhaus der Oberhessischen Diakonie\, die Stadt Laubach
  sowie durch den Seniorenbeirat. Während der Wartezeiten besteht die Mög
 lichkeit\, sich bei Kaffee und Kuchen zu begegnen und auszutauschen.\nWeit
 ere Unterstützung ist gerne gesehen – Sollten Sie Interesse haben\, sic
 h an dem Projekt zu beteiligen oder weitere Informationen wünschen\, wend
 en Sie sich gerne an Annika Sturm.\nDie Gemeinwesenarbeit im Landkreis Gie
 ßen wird gefördert aus Mitteln des Landes Hessen und des Landkreises Gie
 ßen. Umgesetzt wird die Gemeinwesenarbeit im Landkreis Gießen vom „Zen
 trum Arbeit und Umwelt – Gießener gemeinnützige Berufsbildungsgesellsc
 haft mbH“ (ZAUG gGmbH).
ATTACH;FMTTYPE=image/jpeg:https://laubach-online.de/wp-content/uploads/202
 6/03/Kopie-von-Repair-Cafe-Laubach_Plakat33_Veranstaltungskalender_Mai.png
LOCATION:Alter Bahnhof\, Bahnhofstraße 33\, 35321 Laubach\, Deutschland
GEO:50.541713;8.984776
X-APPLE-STRUCTURED-LOCATION;VALUE=URI;X-ADDRESS=Bahnhofstraße 33\, 35321 L
 aubach\, Deutschland;X-APPLE-RADIUS=100;X-TITLE=Alter Bahnhof:geo:50.54171
 3,8.984776
END:VEVENT
END:VCALENDAR