BEGIN:VCALENDAR
VERSION:2.0
PRODID:-//wp-events-plugin.com//7.2.1//EN
TZID:Europe/Berlin
X-WR-TIMEZONE:Europe/Berlin
BEGIN:VEVENT
UID:1133@laubach-online.de
DTSTART:20250322T143000Z
DTEND:20250322T170000Z
DTSTAMP:20250218T091215Z
URL:https://laubach-online.de/events/repair-cafe-laubach/
SUMMARY:Repair-Café Laubach
DESCRIPTION:Ehrenamtliche Reparateure bieten kostenfrei kleine Reparaturen 
 an elektrischen und elektronischen Geräten\, mechanischen Geräten (z.B. 
 Rasenmäher)\, Computern\, Laptops und Tablets sowie Holzgegenständen aus
  dem Privathaushalt an. Bei Interesse an kleinen Reparaturen an Fahrräder
 n sowie IT-Reparaturen wird um Anmeldung bei der Koordinatorin für Gemein
 wesenarbeit\, Annika Sturm\, gebeten (0151/ 633 05 160 oder gwa-laubach@za
 ug.de). Unterstützt wird das Angebot durch das Repair-Café in Pohlheim\,
  das Mehrgenerationenhaus der Oberhessischen Diakonie\, die Stadt Laubach 
 als auch durch den Seniorenbeirat.Während der Wartezeiten besteht die Mö
 glichkeit\, sich bei Kaffee und Kuchen zu begegnen und auszutauschen.\nWei
 tere Unterstützung ist gerne gesehen – Sollten Sie Interesse haben\, si
 ch an dem Projekt zu beteiligen oder weitere Informationen wünschen\, wen
 den Sie sich gerne an Annika Sturm.\nDas Repair-Café ist ein Angebot der 
 Gemeinwesenarbeit in Kooperation mit der Stadt Laubach und dem Mehrgenerat
 ionenhaus der Oberhessischen Diakonie.\nDie Gemeinwesenarbeit im Landkreis
  Gießen wird gefördert aus Mitteln des Landes Hessen und des Landkreises
  Gießen. Umgesetzt wird die Gemeinwesenarbeit im Landkreis Gießen vom 
 „Zentrum Arbeit und Umwelt – Gießener gemeinnützige Berufsbildungsge
 sellschaft mbH“ (ZAUG gGmbH).
ATTACH;FMTTYPE=image/jpeg:https://laubach-online.de/wp-content/uploads/202
 5/02/Kopie-von-Repair-Cafe-Laubach_Plakat31_Veranstaltungskalender2.png
CATEGORIES:Märkte &amp; Feste
LOCATION:Alter Bahnhof\, Bahnhofstraße 33\, 35321 Laubach\, Deutschland
GEO:50.541713;8.984776
X-APPLE-STRUCTURED-LOCATION;VALUE=URI;X-ADDRESS=Bahnhofstraße 33\, 35321 L
 aubach\, Deutschland;X-APPLE-RADIUS=100;X-TITLE=Alter Bahnhof:geo:50.54171
 3,8.984776
END:VEVENT
END:VCALENDAR