BEGIN:VCALENDAR
VERSION:2.0
PRODID:-//wp-events-plugin.com//7.2.1//EN
TZID:Europe/Berlin
X-WR-TIMEZONE:Europe/Berlin
BEGIN:VEVENT
UID:1073@laubach-online.de
DTSTART:20241026T143000Z
DTEND:20241026T170000Z
DTSTAMP:20241010T095829Z
URL:https://laubach-online.de/events/repair-cafe/
SUMMARY:Repair-Café
DESCRIPTION:Ehrenamtliche Reparateure bieten kostenfrei kleine Reparaturen 
 an elektrischen und elektronischen Geräten sowie Holzgegenständen aus de
 m Privathaushalt an.\nBei Interesse an kleinen Reparaturen an Fahrrädern 
 wird um Anmeldung bei der Koordinatorin für Gemeinwesenarbeit\,\n\nAnnika
  Sturm\, gebeten (0151/ 633 05 160 oder gwa-laubach@zaug.de).\n\nWährend 
 der Wartezeiten besteht die Möglichkeit\, sich bei Kaffee und Kuchen zu b
 egegnen und auszutauschen.\n\nBitte beachten Sie\, dass Gegenstände nicht
  abgegeben werden können\, sondern wieder mitgenommen werden müssen.\nEi
 ne Entsorgung von defekten Geräten ist nicht möglich.\nWeitere Unterstü
 tzung ist gerne gesehen – Sollten Sie Interesse haben\, sich an dem Proj
 ekt zu beteiligen\noder weitere Informationen wünschen\, wenden Sie sich 
 gerne an Annika Sturm.\n\nDas Repair-Café ist ein Angebot der Gemeinwesen
 arbeit in Kooperation mit der Stadt Laubach und dem Mehrgenerationenhaus d
 er Oberhessischen Diakonie.
ATTACH;FMTTYPE=image/jpeg:https://laubach-online.de/wp-content/uploads/202
 4/10/Repair-Cafe-Laubach_Plakat4.png
CATEGORIES:Märkte &amp; Feste
LOCATION:Alter Bahnhof\, Bahnhofstraße 33\, 35321 Laubach\, Deutschland
GEO:50.541713;8.984776
X-APPLE-STRUCTURED-LOCATION;VALUE=URI;X-ADDRESS=Bahnhofstraße 33\, 35321 L
 aubach\, Deutschland;X-APPLE-RADIUS=100;X-TITLE=Alter Bahnhof:geo:50.54171
 3,8.984776
END:VEVENT
END:VCALENDAR