BEGIN:VCALENDAR
VERSION:2.0
PRODID:-//wp-events-plugin.com//7.2.1//EN
TZID:Europe/Berlin
X-WR-TIMEZONE:Europe/Berlin
BEGIN:VEVENT
UID:1332@laubach-online.de
DTSTART:20250426T143000Z
DTEND:20250426T170000Z
DTSTAMP:20250407T100148Z
URL:https://laubach-online.de/events/reparieren-kommunizieren-schnabuliere
 n-repair-cafe-laubach/
SUMMARY:"Reparieren\, kommunizieren\, schnabulieren" - Repair-Cafe Laubach
DESCRIPTION:Ehrenamtliche Reparateure bieten kostenfrei kleine Reparaturen 
 in folgenden Bereichen an:\n\nElektronik (z.B. Musikanlagen\, Küchengerä
 te\, Lampen\, TV)\n\nMechanik (z.B. Rasenmäher\, Haushaltsgeräte)\n\nFah
 rräder\n\nIT (z.B. Computer\, Tablets\, Smartphones\, Drucker)\n\nHolz (z
 .B. Holzfiguren\, Spielzeug)\n\nSollten Sie Interesse an kleinen Reparatur
 en an Fahrrädern sowie IT-Reparaturen wird um Anmeldung bei der Koordinat
 orin für Gemeinwesenarbeit\, Annika Sturm\, gebeten (0151/ 633 05 160 ode
 r gwa-laubach@zaug.de). Unterstützt wird das Angebot durch das Repair-Caf
 é in Pohlheim\, das Mehrgenerationenhaus der Oberhessischen Diakonie\, di
 e Stadt Laubach sowie durch den Seniorenbeirat. Während der Wartezeiten b
 esteht die Möglichkeit\, sich bei Kaffee und Kuchen zu begegnen und auszu
 tauschen.\n\nWeitere Unterstützung ist gerne gesehen – Sollten Sie Inte
 resse haben\, sich an dem Projekt zu beteiligen oder weitere Informationen
  wünschen\, wenden Sie sich gerne an Annika Sturm.\n\nDie Gemeinwesenarbe
 it im Landkreis Gießen wird gefördert aus Mitteln des Landes Hessen und 
 des Landkreises Gießen. Umgesetzt wird die Gemeinwesenarbeit im Landkreis
  Gießen vom „Zentrum Arbeit und Umwelt – Gießener gemeinnützige Ber
 ufsbildungsgesellschaft mbH“ (ZAUG gGmbH).\n\n&nbsp\;
ATTACH;FMTTYPE=image/jpeg:https://laubach-online.de/wp-content/uploads/202
 5/04/Repair-Cafe-LaubachApril.jpg
LOCATION:Alter Bahnhof\, Bahnhofstraße 33\, 35321 Laubach\, Deutschland
GEO:50.541713;8.984776
X-APPLE-STRUCTURED-LOCATION;VALUE=URI;X-ADDRESS=Bahnhofstraße 33\, 35321 L
 aubach\, Deutschland;X-APPLE-RADIUS=100;X-TITLE=Alter Bahnhof:geo:50.54171
 3,8.984776
END:VEVENT
END:VCALENDAR