BEGIN:VCALENDAR
VERSION:2.0
PRODID:-//wp-events-plugin.com//7.2.1//EN
TZID:Europe/Berlin
X-WR-TIMEZONE:Europe/Berlin
BEGIN:VEVENT
UID:1463@laubach-online.de
DTSTART:20260207T180000Z
DTEND:20260207T234500Z
DTSTAMP:20260107T095153Z
URL:https://laubach-online.de/events/samstag-sitzung-fasching-freienseen/
SUMMARY:Samstag Sitzung Fasching Freienseen
DESCRIPTION:Fasching in Freienseen\, "Helua"\n\nVeranstaltung in der Heinri
 ch Norwig Halle (DGH) Freienseen.\nEinlass ab 18:00 Uhr\, Start 20:11 Uhr.
 \nEinlass ab 16 Jahren (Einlasskontrolle)!\n\nWir freuen uns mit euch zu f
 eiern\,\n\n"Helau"\, "Helau"\, "Helau".
ATTACH;FMTTYPE=image/jpeg:https://laubach-online.de/wp-content/uploads/202
 6/01/Faschingsplakat-Frosch-2026-2.jpg
LOCATION:Heinrich Norwig Halle Freienseen\, Oberseener Weg\, 35321\, Deutsc
 hland
GEO:50.560367;9.048943
X-APPLE-STRUCTURED-LOCATION;VALUE=URI;X-ADDRESS=Oberseener Weg\, 35321\, De
 utschland;X-APPLE-RADIUS=100;X-TITLE=Heinrich Norwig Halle Freienseen:geo:
 50.560367,9.048943
END:VEVENT
END:VCALENDAR