BEGIN:VCALENDAR
VERSION:2.0
PRODID:-//wp-events-plugin.com//7.2.1//EN
TZID:Europe/Berlin
X-WR-TIMEZONE:Europe/Berlin
BEGIN:VEVENT
UID:1101@laubach-online.de
DTSTART:20250117T140000Z
DTEND:20250117T210000Z
DTSTAMP:20250103T100039Z
URL:https://laubach-online.de/events/sanierte-sauna-im-hallenbad-laubach-o
 effnet-wieder/
SUMMARY:Sanierte Sauna im Hallenbad Laubach öffnet wieder
DESCRIPTION:Nach umfangreichen Sanierungsarbeiten wird die Sauna im Laubach
 er Hallenbad ab 22. Januar 2025 wieder regulär in Betrieb gehen.\nAm 17. 
 Januar besteht ab 14.00 Uhr für die Öffentlichkeit die Möglichkeit\, di
 e sanierten Räumlichkeiten kostenlos zu besichtigen.\nZusätzlich ist an 
 diesem Tag im Hallenbad der Eintritt frei.
ATTACH;FMTTYPE=image/jpeg:https://laubach-online.de/wp-content/uploads/202
 5/01/bench-16910_1280.jpg
END:VEVENT
END:VCALENDAR