BEGIN:VCALENDAR
VERSION:2.0
PRODID:-//wp-events-plugin.com//7.2.1//EN
TZID:Europe/Berlin
X-WR-TIMEZONE:Europe/Berlin
BEGIN:VEVENT
UID:1448@laubach-online.de
DTSTART:20260620T140000Z
DTEND:20260620T180000Z
DTSTAMP:20251021T130438Z
URL:https://laubach-online.de/events/sattelschulter-stricken-mit-thorsten-
 duit/
SUMMARY:Sattelschulter stricken mit Thorsten Duit
DESCRIPTION:Workshop mit Thorsten Duit - Sattelschulter stricken\n\nbegrenz
 te Teilnehmeranzahl\nKosten pro Person 55\,00 €
LOCATION:Hessenbrückenhof\, Hessenbrückenhammer\, 35321 Laubach\, Deutsch
 land
GEO:50.549234;8.935742
X-APPLE-STRUCTURED-LOCATION;VALUE=URI;X-ADDRESS=Hessenbrückenhammer\, 3532
 1 Laubach\, Deutschland;X-APPLE-RADIUS=100;X-TITLE=Hessenbrückenhof:geo:5
 0.549234,8.935742
END:VEVENT
END:VCALENDAR