BEGIN:VCALENDAR
VERSION:2.0
PRODID:-//wp-events-plugin.com//7.2.1//EN
TZID:Europe/Berlin
X-WR-TIMEZONE:Europe/Berlin
BEGIN:VEVENT
UID:1348@laubach-online.de
DTSTART:20250427T100000Z
DTEND:20250427T140000Z
DTSTAMP:20250423T060432Z
URL:https://laubach-online.de/events/sauberhaftes-freienseen/
SUMMARY:Sauberhaftes Freienseen
DESCRIPTION:Im Rahmen der Kampagne „Sauberhaftes Hessen“ lädt der Orts
 beirat Freienseen auch dieses Jahr alle tatkräftigen Bürger und Bürgeri
 nnen\, die Schule und alle Vereine ein\,\ndas Dorf noch sauberer und schö
 ner zu machen. In kleinen Gruppen wird an diesem Tag Müll und Unrat jeder
  Art eingesammelt und zur Abholung bereitgelegt.\n\nFür Verpflegung der f
 leißigen Helferlein wird selbstverständlich auch gesorgt.\n\nWann: Sonnt
 ag\, 27. April d.J. um 10.00 Uhr\, Ende ca. 14.00 Uhr\, Treffpunkt ist das
  Dorfgemeinschaftshaus in Freienseen.
ATTACH;FMTTYPE=image/jpeg:https://laubach-online.de/wp-content/uploads/202
 1/11/muellbaer.jpg
LOCATION:Heinrich Norwig Halle Freienseen\, Oberseener Weg\, 35321\, Deutsc
 hland
GEO:50.560367;9.048943
X-APPLE-STRUCTURED-LOCATION;VALUE=URI;X-ADDRESS=Oberseener Weg\, 35321\, De
 utschland;X-APPLE-RADIUS=100;X-TITLE=Heinrich Norwig Halle Freienseen:geo:
 50.560367,9.048943
END:VEVENT
END:VCALENDAR