BEGIN:VCALENDAR
VERSION:2.0
PRODID:-//wp-events-plugin.com//7.2.1//EN
TZID:Europe/Berlin
X-WR-TIMEZONE:Europe/Berlin
BEGIN:VEVENT
UID:991@laubach-online.de
DTSTART:20240707T150000Z
DTEND:20240707T170000Z
DTSTAMP:20240502T134253Z
URL:https://laubach-online.de/events/schlossparkkonzert-grosses-chortreffe
 n-laubach-ruppertsburg-hungen-lich/
SUMMARY:Schlossparkkonzert - Großes Chortreffen Laubach-Ruppertsburg-Hunge
 n-Lich
DESCRIPTION:Vor der romantischen Kulisse des historischen Schlossparks im L
 uftkurort Laubach einen vergnüglichen Sonntagnachmittag bei Musik\, dufte
 ndem\nKaffee und hausgemachtem Kuchen genießen – dies wollen seit Jahre
 n immer mehr Besucher erleben.\nDie von der Gemeinnützigen Laubacher Kult
 ur und Bäder GmbH organisierten Konzerte werden seit Jahren von der Spark
 asse Laubach-Hungen und deren Stiftung unterstützt.
ATTACH;FMTTYPE=image/jpeg:https://laubach-online.de/wp-content/uploads/202
 4/04/Foto-Titelseite-4.jpg
CATEGORIES:Konzerte
LOCATION:Schlossparkbühne am Kiosk\, Andree Allee\, Laubach\, Deutschland\
 , 35321\, Deutschland
GEO:50.550407;8.988929
X-APPLE-STRUCTURED-LOCATION;VALUE=URI;X-ADDRESS=Andree Allee\, Laubach\, De
 utschland\, 35321\, Deutschland;X-APPLE-RADIUS=100;X-TITLE=Schlossparkbüh
 ne am Kiosk:geo:50.550407,8.988929
END:VEVENT
END:VCALENDAR