BEGIN:VCALENDAR
VERSION:2.0
PRODID:-//wp-events-plugin.com//7.2.1//EN
TZID:Europe/Berlin
X-WR-TIMEZONE:Europe/Berlin
BEGIN:VEVENT
UID:977@laubach-online.de
DTSTART:20240319T163000Z
DTEND:20240319T213000Z
DTSTAMP:20240311T072621Z
URL:https://laubach-online.de/events/schnuppertraining-prinzengarde-freien
 seen/
SUMMARY:Schnuppertraining Prinzengarde Freienseen
DESCRIPTION:DU möchtest in der nächste Saison mit uns in der Trainingshal
 le und auf den Turnierbühnen stehen und Garde- und/oder Schautanz tanzen?
 \n\nDann besuche unser\nSCHNUPPERTRAINING\, lerne uns &amp\; unser Trainin
 g kennen und werde Teil des\nTEAMS.\n\nSTART ist Dienstag der 19. März.\n
 \nSolltest du vorher noch FRAGEN haben\, melde dich einfach bei unserer Ch
 eftrainerin Ute Brodt\, oder besuch uns auf Instagram „tsv_freienseen“
  &amp\; unserer Homepage https://www.tsv-freienseen-tanzsport.de/\nWir hel
 fen dir gerne weiter.\n\nBis bald\, wir FREUEN uns auf DICH!
ATTACH;FMTTYPE=image/jpeg:https://laubach-online.de/wp-content/uploads/202
 4/03/61798B33-31D7-493B-BD86-3854F1517B67.png
CATEGORIES:Sportveranstaltungen
LOCATION:Heinrich Norwig Halle Freienseen\, Oberseener Weg\, 35321\, Deutsc
 hland
GEO:50.560367;9.048943
X-APPLE-STRUCTURED-LOCATION;VALUE=URI;X-ADDRESS=Oberseener Weg\, 35321\, De
 utschland;X-APPLE-RADIUS=100;X-TITLE=Heinrich Norwig Halle Freienseen:geo:
 50.560367,9.048943
END:VEVENT
END:VCALENDAR