BEGIN:VCALENDAR
VERSION:2.0
PRODID:-//wp-events-plugin.com//7.2.1//EN
TZID:Europe/Berlin
X-WR-TIMEZONE:Europe/Berlin
BEGIN:VEVENT
UID:1369@laubach-online.de
DTSTART:20250705T150000Z
DTEND:20250705T230000Z
DTSTAMP:20250624T125900Z
URL:https://laubach-online.de/events/schwimmbadfest-mit-arschbombenwettkam
 pf/
SUMMARY:Schwimmbadfest mit Arschbombenwettkampf
DESCRIPTION:
ATTACH;FMTTYPE=image/jpeg:https://laubach-online.de/wp-content/uploads/202
 5/06/Sommerfest2025_Poster_250616-scaled.jpg
END:VEVENT
END:VCALENDAR