BEGIN:VCALENDAR
VERSION:2.0
PRODID:-//wp-events-plugin.com//7.2.1//EN
TZID:Europe/Berlin
X-WR-TIMEZONE:Europe/Berlin
BEGIN:VEVENT
UID:975@laubach-online.de
DTSTART:20240713T140000Z
DTEND:20240713T234500Z
DTSTAMP:20240229T122809Z
URL:https://laubach-online.de/events/schwimmbadfest/
SUMMARY:Schwimmbadfest
DESCRIPTION:
ATTACH;FMTTYPE=image/jpeg:https://laubach-online.de/wp-content/uploads/202
 3/05/freierEintrittfuerkinderinLaubach.jpg
CATEGORIES:Märkte &amp; Feste
LOCATION:Sport- und Kulturhalle Laubach\, Felix-Klipstein-Weg 23\, Laubach\
 , 35321\, Deutschland
GEO:50.548938;8.987553
X-APPLE-STRUCTURED-LOCATION;VALUE=URI;X-ADDRESS=Felix-Klipstein-Weg 23\, La
 ubach\, 35321\, Deutschland;X-APPLE-RADIUS=100;X-TITLE=Sport- und Kulturha
 lle Laubach:geo:50.548938,8.987553
END:VEVENT
END:VCALENDAR