BEGIN:VCALENDAR
VERSION:2.0
PRODID:-//wp-events-plugin.com//7.2.1//EN
TZID:Europe/Berlin
X-WR-TIMEZONE:Europe/Berlin
BEGIN:VEVENT
UID:1075@laubach-online.de
DTSTART;TZID=Europe/Berlin:20241027T133000
DTEND;TZID=Europe/Berlin:20241027T170000
DTSTAMP:20241015T111124Z
URL:https://laubach-online.de/events/sie-werden-lachen-es-geht-um-den-tod-
 improvisationstheater-und-vortrag-das-kann-ja-heiter-werden/
SUMMARY:\\"Sie werden lachen\, es geht um den Tod\\" Improvisationstheater 
 und Vortrag \\"Das kann ja heiter werden\\"
DESCRIPTION:"Sie werden lachen\, es geht um den Tod"\n\nDas gleichnamige Im
 provisationstheater und ein Vortrag "Das kann ja heiter werden"\nAm 27.10.
 2024 ab 13:30 bis 17:00 in der Gallushalle in Gießenerstr. 45 in 35305 Gr
 ünberg\n\nViele Menschen fragen sich\, ob eine Clownin im Hospiz und Humo
 r in der Sterbebegleitung überhaupt möglich und angemessen ist. Birgit K
 urz erzählt aus ihrer jahrelangen Erfahrung im Hospiz und auf der Palliat
 ivstation und gibt eine Antwort auf diese Frage.\nHolzer und Schmitt\, bek
 annt als Tabutanten\, zeichnen sich durch ihren humorvollen und gleichzeit
 igen respekt- und würdevollen Umgang mit diesen Themen aus. Sie lassen in
  charmanter Interaktion mit dem Publikum Szenen zum Thema Leben und Tod\, 
 Liebe und Trauer live vor Ort entstehen. Jede Aufführung ist anders\, imm
 er aber voller berührender\, skurriler\, leichter wie nachdenklicher Mome
 nte.\nTeilnahme ist kostenfrei\, wir freuen uns über Spenden\nAnmeldung b
 eim Amb. Hospizdienst Laubach über Telefon: 06405/ 827 694 oder per E-Mai
 l: hospizdienst@oberhess-diakonie.de
ATTACH;FMTTYPE=image/jpeg:https://laubach-online.de/wp-content/uploads/202
 4/10/Bild-Tabu-Tanten.jpg
CATEGORIES:Führungen
END:VEVENT
BEGIN:VTIMEZONE
TZID:Europe/Berlin
X-LIC-LOCATION:Europe/Berlin
BEGIN:STANDARD
DTSTART:20241027T020000
TZOFFSETFROM:+0200
TZOFFSETTO:+0100
TZNAME:CET
END:STANDARD
END:VTIMEZONE
END:VCALENDAR