BEGIN:VCALENDAR
VERSION:2.0
PRODID:-//wp-events-plugin.com//7.2.1//EN
TZID:Europe/Berlin
X-WR-TIMEZONE:Europe/Berlin
BEGIN:VEVENT
UID:217@laubach-online.de
DTSTART:20231231T150000Z
DTEND:20231231T180000Z
DTSTAMP:20231120T075727Z
URL:https://laubach-online.de/events/silvesterwuerfeln/
SUMMARY:Silvesterwürfeln
DESCRIPTION:Am Silvestertag machen sich in der Laubacher Kernstadt spätest
 ens nachmittags zahlreiche Kinder\, Jugendliche samt ihrer Eltern\, Große
 ltern und Freunde auf\, um zu zocken: Denn beim traditionellen Silvesterw
 ürfeln geht es um die Wurst - und noch viel mehr. Gewinnen kann man mit e
 twas Glück in vielen Cafés und Gaststätten.\nNachweislich breitet sich 
 das Spielfieber schon seit über 100 Jahren in der früheren Grafenstadt a
 us. Die Rede geht von französischen Soldaten\, die das Spiel im Dreißigj
 ährigen Krieg mit an den Fuße des Vogelsberges gebracht haben sollen.\nG
 ut drei Stunden nur dauert der "Zauber"\, der sich über die Gassen der Fa
 chwerkstadt legt. Gegen 15 Uhr laden die ersten von sicherlich 25 Croupier
 s zum Mitspielen ein. Nur mit Geduld und Glück dringt man schnell in die 
 erste Reihe\, an die Tischkante vor. Ist die erste Herausforderung des Tag
 es geschafft\, gilt es\, zum Aufruf des Spielleiters möglichst schnell se
 inen Geldeinsatz - zwischen ca. 50 Cent und fünf Euro - in den oberen wei
 ßen Porzellanteller zu werfen. Um drei Würfel dreht sich alles an diesem
  Nachmittag in Laubach. Jeder muss solange werfen\, bis zwei Würfel eine 
 gleiche Augenzahl zeigen. Dieser Wurf zählt\, und der nächste versucht s
 ein Glück bei der spielerischen Jagd auf rohe Bratwürstchen\, Donutboxen
 \, große und kleine Brezeln\, leckere Sahne-\, Buttercreme- oder Schokola
 den-Torten\, Glücksschweinchen oder Gutscheine.
ATTACH;FMTTYPE=image/jpeg:https://laubach-online.de/wp-content/uploads/202
 1/01/Wuerfel.jpg
END:VEVENT
END:VCALENDAR