BEGIN:VCALENDAR
VERSION:2.0
PRODID:-//wp-events-plugin.com//7.2.1//EN
TZID:Europe/Berlin
X-WR-TIMEZONE:Europe/Berlin
BEGIN:VEVENT
UID:1333@laubach-online.de
DTSTART:20250428T190000Z
DTEND:20250428T220000Z
DTSTAMP:20250407T121910Z
URL:https://laubach-online.de/events/sitzung-der-stadtverordnetenversammlu
 ng/
SUMMARY:Sitzung der Stadtverordnetenversammlung
DESCRIPTION:Öffentliche Sitzung im großen Sitzungssaal des Rathauses in d
 er Friedrichstraße 11\, 35321 Laubach.
LOCATION:Rathaussaal\, Friedrichstraße 11\, Laubach\, 35321\, Deutschland
GEO:50.540895;8.991633
X-APPLE-STRUCTURED-LOCATION;VALUE=URI;X-ADDRESS=Friedrichstraße 11\, Lauba
 ch\, 35321\, Deutschland;X-APPLE-RADIUS=100;X-TITLE=Rathaussaal:geo:50.540
 895,8.991633
END:VEVENT
END:VCALENDAR